BEGIN:VCALENDAR
VERSION:2.0
PRODID:-//91.233.84.75//NONSGML kigkonsult.se iCalcreator 2.24//
CALSCALE:GREGORIAN
METHOD:PUBLISH
X-WR-TIMEZONE:Europe/Berlin
BEGIN:VTIMEZONE
TZID:Europe/Berlin
X-LIC-LOCATION:Europe/Berlin
BEGIN:STANDARD
DTSTART:19701025T030000
TZOFFSETFROM:+0200
TZOFFSETTO:+0100
TZNAME:CET
END:STANDARD
BEGIN:DAYLIGHT
DTSTART:19700329T020000
TZOFFSETFROM:+0100
TZOFFSETTO:+0200
TZNAME:CEST
END:DAYLIGHT
END:VTIMEZONE
BEGIN:VEVENT
UID:20260421T162531CEST-234736ac27@91.233.84.75
DTSTAMP:20260421T142531Z
DESCRIPTION:Konzert mit Werken von W. A. Mozart\, A. Vivaldi\, J. S. Bach\,
  A. Piazzolla und N. Halmamedov\nKammerorchester Turkmenistanim Rahmen des
  73. Festival junger Künstler Bayreuth\nDirigent: Razul Klychev
DTSTART:20230810T200000
DTEND:20230810T200000
GEO:+50.001032;+11.798161
LOCATION:Haus des Gastes\, Josef-Prechtl-Platz\, 95485 Oberwarmensteinach\,
  Deutschland
SUMMARY:Festlich! Heiter! Wild!
URL:https://www.youngartistsbayreuth.de/en/event/festlich-heiter-wild-10-08
 -2023-20-00.html
X-APPLE-STRUCTURED-LOCATION;VALUE=URI;X-ADDRESS="Josef-Prechtl-Platz, Oberw
 armensteinach, 95485, Deutschland";X-APPLE-RADIUS=100;X-TITLE=Festlich! He
 iter! Wild!:GEO:50.001032\,11.798161
END:VEVENT
END:VCALENDAR
