BEGIN:VCALENDAR
VERSION:2.0
PRODID:-//91.233.84.75//NONSGML kigkonsult.se iCalcreator 2.24//
CALSCALE:GREGORIAN
METHOD:PUBLISH
X-WR-TIMEZONE:Europe/Berlin
BEGIN:VTIMEZONE
TZID:Europe/Berlin
X-LIC-LOCATION:Europe/Berlin
BEGIN:STANDARD
DTSTART:19701025T030000
TZOFFSETFROM:+0200
TZOFFSETTO:+0100
TZNAME:CET
END:STANDARD
BEGIN:DAYLIGHT
DTSTART:19700329T020000
TZOFFSETFROM:+0100
TZOFFSETTO:+0200
TZNAME:CEST
END:DAYLIGHT
END:VTIMEZONE
BEGIN:VEVENT
UID:20260421T162614CEST-356553d150@91.233.84.75
DTSTAMP:20260421T142614Z
DESCRIPTION:Mit Werken u. a. von W.A. Mozart\, Nurymov und A. Piazzolla\nDa
 s Kammermusikensemble aus Turkmenistanim Rahmen des 74. Festival junger Kü
 nstler Bayreuth
DTSTART:20240813T160000
DTEND:20240813T160000
GEO:+49.967667;+11.585064
LOCATION:Klinik Hohe Warte\, Hohe Warte 8\, 95445 Bayreuth\, Deutschland
SUMMARY:Festlich. Heiter. Wild!
URL:https://www.youngartistsbayreuth.de/en/event/festlich-heiter-wild-13-08
 -2024-16-00.html
X-APPLE-STRUCTURED-LOCATION;VALUE=URI;X-ADDRESS="Hohe Warte 8, Bayreuth, 95
 445, Deutschland";X-APPLE-RADIUS=100;X-TITLE=Festlich. Heiter. Wild!:GEO:4
 9.9676675\,11.5850642
END:VEVENT
END:VCALENDAR
