BEGIN:VCALENDAR
VERSION:2.0
PRODID:-//91.233.84.75//NONSGML kigkonsult.se iCalcreator 2.24//
CALSCALE:GREGORIAN
METHOD:PUBLISH
X-WR-TIMEZONE:Europe/Berlin
BEGIN:VTIMEZONE
TZID:Europe/Berlin
X-LIC-LOCATION:Europe/Berlin
BEGIN:STANDARD
DTSTART:19701025T030000
TZOFFSETFROM:+0200
TZOFFSETTO:+0100
TZNAME:CET
END:STANDARD
BEGIN:DAYLIGHT
DTSTART:19700329T020000
TZOFFSETFROM:+0100
TZOFFSETTO:+0200
TZNAME:CEST
END:DAYLIGHT
END:VTIMEZONE
BEGIN:VEVENT
UID:20260421T164752CEST-6452d8fe46@91.233.84.75
DTSTAMP:20260421T144752Z
DESCRIPTION:Konzert mit Werken u. a. von J. Brahms\, N. Halmammedov und A. 
 Piazzolla\nEnsemble Turkmenistan des 72. Festival junger Künstler Bayreuth
 \nMusikalische Leitung: Razul Klychev
DTSTART:20220818T200000
DTEND:20220818T200000
GEO:+50.052679;+11.795157
LOCATION:Evangelische Matthäuskirche\, Hauptstraße 5\, 95493 Bischofsgrün\,
  Deutschland
SUMMARY:Festlich. Heiter. Wild!
URL:https://www.youngartistsbayreuth.de/en/event/festlich-heiter-wild-18-08
 -2022-20-00.html
X-APPLE-STRUCTURED-LOCATION;VALUE=URI;X-ADDRESS="Hauptstraße 5, Bischofsgrü
 n, 95493, Deutschland";X-APPLE-RADIUS=100;X-TITLE=Festlich. Heiter. Wild!:
 GEO:50.0526793\,11.7951571
END:VEVENT
END:VCALENDAR
