BEGIN:VCALENDAR
VERSION:2.0
PRODID:-//91.233.84.75//NONSGML kigkonsult.se iCalcreator 2.24//
CALSCALE:GREGORIAN
METHOD:PUBLISH
X-WR-TIMEZONE:Europe/Berlin
BEGIN:VTIMEZONE
TZID:Europe/Berlin
X-LIC-LOCATION:Europe/Berlin
BEGIN:STANDARD
DTSTART:19701025T030000
TZOFFSETFROM:+0200
TZOFFSETTO:+0100
TZNAME:CET
END:STANDARD
BEGIN:DAYLIGHT
DTSTART:19700329T020000
TZOFFSETFROM:+0100
TZOFFSETTO:+0200
TZNAME:CEST
END:DAYLIGHT
END:VTIMEZONE
BEGIN:VEVENT
UID:20260421T162530CEST-7244d87faf@91.233.84.75
DTSTAMP:20260421T142530Z
DESCRIPTION:Kammermusik mit dem Ensemble Turkmenistan.\nEin Konzert des 75.
  Festival junger Künstler Bayreuth.
DTSTART:20250808T190000
DTEND:20250808T190000
GEO:+49.888108;+11.449691
LOCATION:Evangelische Kirche St. Bartholomäus\, Schlossstraße 7\, 95496 Gla
 shütten\, Deutschland
SUMMARY:„Festlich.Heiter.Wild.“
URL:https://www.youngartistsbayreuth.de/en/event/festlich-heiter-wild-21-07
 -2025-16-15.html
X-APPLE-STRUCTURED-LOCATION;VALUE=URI;X-ADDRESS="Schlossstraße 7, Glashütte
 n, 95496, Deutschland";X-APPLE-RADIUS=100;X-TITLE=„Festlich.Heiter.Wild.“:
 GEO:49.8881078\,11.4496911
END:VEVENT
END:VCALENDAR
