BEGIN:VCALENDAR
VERSION:2.0
PRODID:-//91.233.84.75//NONSGML kigkonsult.se iCalcreator 2.24//
CALSCALE:GREGORIAN
METHOD:PUBLISH
X-WR-TIMEZONE:Europe/Berlin
BEGIN:VTIMEZONE
TZID:Europe/Berlin
X-LIC-LOCATION:Europe/Berlin
BEGIN:STANDARD
DTSTART:19701025T030000
TZOFFSETFROM:+0200
TZOFFSETTO:+0100
TZNAME:CET
END:STANDARD
BEGIN:DAYLIGHT
DTSTART:19700329T020000
TZOFFSETFROM:+0100
TZOFFSETTO:+0200
TZNAME:CEST
END:DAYLIGHT
END:VTIMEZONE
BEGIN:VEVENT
UID:20260421T162613CEST-7762014357@91.233.84.75
DTSTAMP:20260421T142613Z
DESCRIPTION:Konzert mit Werken u. a. von J. Brahms\, N. Halmammedov und A. 
 Piazzolla\nEnsemble Turkmenistan des 72. Festival junger Künstler Bayreuth
 \nMusikalische Leitung: Razul Klychev
DTSTART:20220815T170000
DTEND:20220815T170000
GEO:+49.871104;+11.890271
LOCATION:Stadtpfarrkirche Mariä Himmelfahrt\, Schmidstraße 23\, 95478 Kemna
 th\, Deutschland
SUMMARY:Festlich. Heiter. Wild!
URL:https://www.youngartistsbayreuth.de/en/event/festlich-heiter-wild-27-07
 -2022-13-09.html
X-APPLE-STRUCTURED-LOCATION;VALUE=URI;X-ADDRESS="Schmidstraße 23, Kemnath, 
 95478, Deutschland";X-APPLE-RADIUS=100;X-TITLE=Festlich. Heiter. Wild!:GEO
 :49.8711043\,11.8902706
END:VEVENT
END:VCALENDAR
