BEGIN:VCALENDAR
VERSION:2.0
PRODID:-//91.233.84.75//NONSGML kigkonsult.se iCalcreator 2.24//
CALSCALE:GREGORIAN
METHOD:PUBLISH
X-WR-TIMEZONE:Europe/Berlin
BEGIN:VTIMEZONE
TZID:Europe/Berlin
X-LIC-LOCATION:Europe/Berlin
BEGIN:STANDARD
DTSTART:19701025T030000
TZOFFSETFROM:+0200
TZOFFSETTO:+0100
TZNAME:CET
END:STANDARD
BEGIN:DAYLIGHT
DTSTART:19700329T020000
TZOFFSETFROM:+0100
TZOFFSETTO:+0200
TZNAME:CEST
END:DAYLIGHT
END:VTIMEZONE
BEGIN:VEVENT
UID:20260421T163943CEST-559696ec28@91.233.84.75
DTSTAMP:20260421T143943Z
DESCRIPTION:Konzert mit Werken u. a. von J. Brahms\, N. Halmammedov und A. 
 Piazolla\nEnsemble Turkmenistan des 72. Festival junger Künstler Bayreuth
 \nMusikalische Leitung: Razul Klychev
DTSTART:20220820T190000
DTEND:20220820T190000
GEO:+50.06432;+11.588753
LOCATION:Ev. Stiftskirche\, Klosterberg 8\, 95502 Himmelkron\, Deutschland
SUMMARY:Festlich. Heiter. Wild! - Achtung: Neue Lokation!
URL:https://www.youngartistsbayreuth.de/en/event/festlich-heiter-wild-achtu
 ng-neue-lokation-20-08-2022-19-00.html
X-APPLE-STRUCTURED-LOCATION;VALUE=URI;X-ADDRESS="Klosterberg 8, Himmelkron,
  95502, Deutschland";X-APPLE-RADIUS=100;X-TITLE="Festlich. Heiter. Wild! -
  Achtung: Neue Lokation!":GEO:50.0643195\,11.5887527
END:VEVENT
END:VCALENDAR
