BEGIN:VCALENDAR
VERSION:2.0
PRODID:-//91.233.84.75//NONSGML kigkonsult.se iCalcreator 2.24//
CALSCALE:GREGORIAN
METHOD:PUBLISH
X-WR-TIMEZONE:Europe/Berlin
BEGIN:VTIMEZONE
TZID:Europe/Berlin
X-LIC-LOCATION:Europe/Berlin
BEGIN:STANDARD
DTSTART:19701025T030000
TZOFFSETFROM:+0200
TZOFFSETTO:+0100
TZNAME:CET
END:STANDARD
BEGIN:DAYLIGHT
DTSTART:19700329T020000
TZOFFSETFROM:+0100
TZOFFSETTO:+0200
TZNAME:CEST
END:DAYLIGHT
END:VTIMEZONE
BEGIN:VEVENT
UID:20260421T145900CEST-654089db5b@91.233.84.75
DTSTAMP:20260421T125900Z
DESCRIPTION:Konzert mit Werken u. a. von G. P. Telemann\, W. A. Mozart und 
 A. Reicha\nBläserensemble des 72. Festival junger Künstler Bayreuth\nMusik
 alische Leitung: Prof. Otto Sauter\nBei schlechtem Wetter:Klosterkirche Ma
 ria Immaculata
DTSTART:20220813T200000
DTEND:20220813T200000
GEO:+49.786969;+11.82031
LOCATION:Innenhof der Abtei &#40\;Open Air&#41\;\, Kloster\, 92676 Speinsha
 rt\, Deutschland
SUMMARY:Festliche Bläserklänge
URL:https://www.youngartistsbayreuth.de/de/veranstaltung/festliche-bl%C3%A4
 serkl%C3%A4nge-13-08-2022-20-00.html
X-APPLE-STRUCTURED-LOCATION;VALUE=URI;X-ADDRESS="Kloster, Speinshart, 92676
 , Deutschland";X-APPLE-RADIUS=100;X-TITLE=Festliche Bläserklänge:GEO:49.78
 69694\,11.8203095
END:VEVENT
END:VCALENDAR
