BEGIN:VCALENDAR
VERSION:2.0
PRODID:-//91.233.84.75//NONSGML kigkonsult.se iCalcreator 2.24//
CALSCALE:GREGORIAN
METHOD:PUBLISH
X-WR-TIMEZONE:Europe/Berlin
BEGIN:VTIMEZONE
TZID:Europe/Berlin
X-LIC-LOCATION:Europe/Berlin
BEGIN:STANDARD
DTSTART:19701025T030000
TZOFFSETFROM:+0200
TZOFFSETTO:+0100
TZNAME:CET
END:STANDARD
BEGIN:DAYLIGHT
DTSTART:19700329T020000
TZOFFSETFROM:+0100
TZOFFSETTO:+0200
TZNAME:CEST
END:DAYLIGHT
END:VTIMEZONE
BEGIN:VEVENT
UID:20260421T145720CEST-717091264f@91.233.84.75
DTSTAMP:20260421T125720Z
DESCRIPTION:Solist:innen und Bläserensemble des 73. Festival junger Künstle
 r Bayreuth\nmit Werken von u. a. J. S. Bach\, W. A. Mozart\, R. Wagner und
  E. Morricone\nMusikalische Leitung: Prof. Otto Sauter\, Trompete\; Prof. 
 Dr. Dariusz Mikulski\, Horn
DTSTART:20230809T193000
DTEND:20230809T193000
GEO:+50.06432;+11.588753
LOCATION:Ev. Stiftskirche\, Klosterberg 8\, 95502 Himmelkron\, Deutschland
SUMMARY:Festliche Bläserserenade
URL:https://www.youngartistsbayreuth.de/de/veranstaltung/festliche-bl%C3%A4
 serserenade-09-08-2023-19-30.html
X-APPLE-STRUCTURED-LOCATION;VALUE=URI;X-ADDRESS="Klosterberg 8, Himmelkron,
  95502, Deutschland";X-APPLE-RADIUS=100;X-TITLE=Festliche Bläserserenade:G
 EO:50.0643195\,11.5887527
END:VEVENT
END:VCALENDAR
