BEGIN:VCALENDAR
VERSION:2.0
PRODID:-//91.233.84.75//NONSGML kigkonsult.se iCalcreator 2.24//
CALSCALE:GREGORIAN
METHOD:PUBLISH
X-WR-TIMEZONE:Europe/Berlin
BEGIN:VTIMEZONE
TZID:Europe/Berlin
X-LIC-LOCATION:Europe/Berlin
BEGIN:STANDARD
DTSTART:19701025T030000
TZOFFSETFROM:+0200
TZOFFSETTO:+0100
TZNAME:CET
END:STANDARD
BEGIN:DAYLIGHT
DTSTART:19700329T020000
TZOFFSETFROM:+0100
TZOFFSETTO:+0200
TZNAME:CEST
END:DAYLIGHT
END:VTIMEZONE
BEGIN:VEVENT
UID:20260421T164853CEST-643451d227@91.233.84.75
DTSTAMP:20260421T144853Z
DESCRIPTION:Solist:innen und Bläserensemble des 73. Festival junger Künstle
 r Bayreuth\nmit Werken von u. a. J. S. Bach\, W. A. Mozart\, R. Wagner und
  E. Morricone\nMusikalische Leitung: Prof. Otto Sauter\, Trompete\, Prof. 
 Dr. Dariusz Mikulski\, Horn
DTSTART:20230810T190000
DTEND:20230810T190000
GEO:+49.954149;+11.592844
LOCATION:Ordenskirche St. Georgen\, St. Georgen 50\, 95448 Bayreuth\, Deuts
 chland
SUMMARY:Festliche Bläserserenade
URL:https://www.youngartistsbayreuth.de/en/event/festliche-bl%C3%A4serseren
 ade-10-08-2023-19-00.html
X-APPLE-STRUCTURED-LOCATION;VALUE=URI;X-ADDRESS="St. Georgen 50, Bayreuth, 
 95448, Deutschland";X-APPLE-RADIUS=100;X-TITLE=Festliche Bläserserenade:GE
 O:49.9541493\,11.5928437
END:VEVENT
END:VCALENDAR
