BEGIN:VCALENDAR
VERSION:2.0
PRODID:-//91.233.84.75//NONSGML kigkonsult.se iCalcreator 2.24//
CALSCALE:GREGORIAN
METHOD:PUBLISH
X-WR-TIMEZONE:Europe/Berlin
BEGIN:VTIMEZONE
TZID:Europe/Berlin
X-LIC-LOCATION:Europe/Berlin
BEGIN:STANDARD
DTSTART:19701025T030000
TZOFFSETFROM:+0200
TZOFFSETTO:+0100
TZNAME:CET
END:STANDARD
BEGIN:DAYLIGHT
DTSTART:19700329T020000
TZOFFSETFROM:+0100
TZOFFSETTO:+0200
TZNAME:CEST
END:DAYLIGHT
END:VTIMEZONE
BEGIN:VEVENT
UID:20260421T165126CEST-0966631402@91.233.84.75
DTSTAMP:20260421T145126Z
DESCRIPTION:- geladene Gäste -
DTSTART:20230803T180000
DTEND:20230803T180000
GEO:+49.94286;+11.5876
LOCATION:DAS ZENTRUM\, Europasaal\, Äußere Badstraße 7a\, 95448 Bayreuth\, 
 Deutschland
SUMMARY:Festliche Eröffnung des 73. Festival junger Künstler Bayreuth - gel
 adene Gäste -
URL:https://www.youngartistsbayreuth.de/en/event/festliche-er%C3%B6ffnung-d
 es-73-festival-junger-k%C3%BCnstler-03-08-2023-18-00.html
X-APPLE-STRUCTURED-LOCATION;VALUE=URI;X-ADDRESS="Äußere Badstraße 7a, Bayre
 uth, 95448, Deutschland";X-APPLE-RADIUS=100;X-TITLE=Festliche Eröffnung de
 s 73. Festival junger Künstler Bayreuth - geladene Gäste -:GEO:49.94286\,1
 1.5876
END:VEVENT
END:VCALENDAR
