BEGIN:VCALENDAR
VERSION:2.0
PRODID:-//91.233.84.75//NONSGML kigkonsult.se iCalcreator 2.24//
CALSCALE:GREGORIAN
METHOD:PUBLISH
X-WR-TIMEZONE:Europe/Berlin
BEGIN:VTIMEZONE
TZID:Europe/Berlin
X-LIC-LOCATION:Europe/Berlin
BEGIN:STANDARD
DTSTART:19701025T030000
TZOFFSETFROM:+0200
TZOFFSETTO:+0100
TZNAME:CET
END:STANDARD
BEGIN:DAYLIGHT
DTSTART:19700329T020000
TZOFFSETFROM:+0100
TZOFFSETTO:+0200
TZNAME:CEST
END:DAYLIGHT
END:VTIMEZONE
BEGIN:VEVENT
UID:20260421T164752CEST-0329b47c9e@91.233.84.75
DTSTAMP:20260421T144752Z
DESCRIPTION:Mit Werken u. a. von W.A. Mozart\, Nurymov und A. Piazzolla\nDa
 s Kammermusikensemble aus Turkmenistanim Rahmen des 74. Festival junger Kü
 nstler Bayreuth
DTSTART:20240804T190000
DTEND:20240804T190000
GEO:+50.06432;+11.588753
LOCATION:Ev. Stiftskirche\, Klosterberg 8\, 95502 Himmelkron\, Deutschland
SUMMARY:Festliche Serenade
URL:https://www.youngartistsbayreuth.de/en/event/festliche-serenade-04-08-2
 024-19-00.html
X-APPLE-STRUCTURED-LOCATION;VALUE=URI;X-ADDRESS="Klosterberg 8, Himmelkron,
  95502, Deutschland";X-APPLE-RADIUS=100;X-TITLE=Festliche Serenade:GEO:50.
 0643195\,11.5887527
END:VEVENT
END:VCALENDAR
