BEGIN:VCALENDAR
VERSION:2.0
PRODID:-//91.233.84.75//NONSGML kigkonsult.se iCalcreator 2.24//
CALSCALE:GREGORIAN
METHOD:PUBLISH
X-WR-TIMEZONE:Europe/Berlin
BEGIN:VTIMEZONE
TZID:Europe/Berlin
X-LIC-LOCATION:Europe/Berlin
BEGIN:STANDARD
DTSTART:19701025T030000
TZOFFSETFROM:+0200
TZOFFSETTO:+0100
TZNAME:CET
END:STANDARD
BEGIN:DAYLIGHT
DTSTART:19700329T020000
TZOFFSETFROM:+0100
TZOFFSETTO:+0200
TZNAME:CEST
END:DAYLIGHT
END:VTIMEZONE
BEGIN:VEVENT
UID:20260421T164751CEST-5267233d91@91.233.84.75
DTSTAMP:20260421T144751Z
DESCRIPTION:Mit Werken u. a. von W.A. Mozart\, Nurymov und A. Piazzolla\nDa
 s Kammermusikensemble aus Turkmenistanim Rahmen des 74. Festival junger Kü
 nstler Bayreuth\n(bei Schlechtwetter Thammer Haus)
DTSTART:20240812T190000
DTEND:20240812T190000
GEO:+49.426114;+12.481353
LOCATION:Marktplatz &#40\;Open Air&#41\;\, Marktplatz\, 92559 Winklarn\, De
 utschland
SUMMARY:Festliche Serenade
URL:https://www.youngartistsbayreuth.de/en/event/festliche-serenade-12-08-2
 024-19-00.html
X-APPLE-STRUCTURED-LOCATION;VALUE=URI;X-ADDRESS="Marktplatz, Winklarn, 9255
 9, Deutschland";X-APPLE-RADIUS=100;X-TITLE=Festliche Serenade:GEO:49.42611
 421582111\,12.481353356534083
END:VEVENT
END:VCALENDAR
