BEGIN:VCALENDAR
VERSION:2.0
PRODID:-//91.233.84.75//NONSGML kigkonsult.se iCalcreator 2.24//
CALSCALE:GREGORIAN
METHOD:PUBLISH
X-WR-TIMEZONE:Europe/Berlin
BEGIN:VTIMEZONE
TZID:Europe/Berlin
X-LIC-LOCATION:Europe/Berlin
BEGIN:STANDARD
DTSTART:19701025T030000
TZOFFSETFROM:+0200
TZOFFSETTO:+0100
TZNAME:CET
END:STANDARD
BEGIN:DAYLIGHT
DTSTART:19700329T020000
TZOFFSETFROM:+0100
TZOFFSETTO:+0200
TZNAME:CEST
END:DAYLIGHT
END:VTIMEZONE
BEGIN:VEVENT
UID:20260421T164043CEST-20682e6060@91.233.84.75
DTSTAMP:20260421T144043Z
DESCRIPTION:Mit Werken u. a. von W. A. Mozart\, C. Nurymov und A. Piazzolla
 \nDas Kammermusikensemble aus Turkmenistan\nund\nSufia. Musik aus Persien
 \nSufia. Ensemble Iran\nim Rahmen des 74. Festival junger Künstler Bayreut
 h
DTSTART:20240805T180000
DTEND:20240805T180000
GEO:+49.727147;+11.465734
LOCATION:Pfarrkirche St. Jakobus Bronn\, Klumpertalstraße 54\, 91257 Pegnit
 z\, Deutschland
SUMMARY:Festliche Serenade: Ein Konzert für Bronn
URL:https://www.youngartistsbayreuth.de/en/event/festliche-serenade-ein-kon
 zert-f%C3%BCr-bronn-05-08-2024-18-00.html
X-APPLE-STRUCTURED-LOCATION;VALUE=URI;X-ADDRESS="Klumpertalstraße 54, Pegni
 tz, 91257, Deutschland";X-APPLE-RADIUS=100;X-TITLE="Festliche Serenade: Ei
 n Konzert für Bronn":GEO:49.7271467\,11.4657345
END:VEVENT
END:VCALENDAR
