BEGIN:VCALENDAR
VERSION:2.0
PRODID:-//91.233.84.75//NONSGML kigkonsult.se iCalcreator 2.24//
CALSCALE:GREGORIAN
METHOD:PUBLISH
X-WR-TIMEZONE:Europe/Berlin
BEGIN:VTIMEZONE
TZID:Europe/Berlin
X-LIC-LOCATION:Europe/Berlin
BEGIN:STANDARD
DTSTART:19701025T030000
TZOFFSETFROM:+0200
TZOFFSETTO:+0100
TZNAME:CET
END:STANDARD
BEGIN:DAYLIGHT
DTSTART:19700329T020000
TZOFFSETFROM:+0100
TZOFFSETTO:+0200
TZNAME:CEST
END:DAYLIGHT
END:VTIMEZONE
BEGIN:VEVENT
UID:20260421T150013CEST-73440614f9@91.233.84.75
DTSTAMP:20260421T130013Z
DESCRIPTION:Das international besetzte Trompetenensemble unter der Leitung 
 von Prof. Otto Sauter präsentiert passend zum Jubiläumsjahr besonders fest
 liche Musik aus verschiedenen Epochen vom Barock bis zur Moderne.\nAuf der
  Orgel begleitet Nicola Fratti.\nEin Konzert des 75. Festival junger Künst
 ler Bayreuth unter derSchirmherrschaft von Landrat Florian Wiedemann.
DTSTART:20250815T190000
DTEND:20250815T190000
GEO:+49.888217;+11.505446
LOCATION:Hummeltal Friedenskirche\, Kirchstraße 15\, 95503 Hummeltal\, Deut
 schland
SUMMARY:„Festliche Trompetenklänge“
URL:https://www.youngartistsbayreuth.de/de/veranstaltung/festliche-trompete
 nkl%C3%A4nge-15-08-2025-19-00.html
X-APPLE-STRUCTURED-LOCATION;VALUE=URI;X-ADDRESS="Kirchstraße 15, Hummeltal,
  95503, Deutschland";X-APPLE-RADIUS=100;X-TITLE=„Festliche Trompetenklänge
 “:GEO:49.8882172\,11.5054461
END:VEVENT
END:VCALENDAR
