BEGIN:VCALENDAR
VERSION:2.0
PRODID:-//91.233.84.75//NONSGML kigkonsult.se iCalcreator 2.24//
CALSCALE:GREGORIAN
METHOD:PUBLISH
X-WR-TIMEZONE:Europe/Berlin
BEGIN:VTIMEZONE
TZID:Europe/Berlin
X-LIC-LOCATION:Europe/Berlin
BEGIN:STANDARD
DTSTART:19701025T030000
TZOFFSETFROM:+0200
TZOFFSETTO:+0100
TZNAME:CET
END:STANDARD
BEGIN:DAYLIGHT
DTSTART:19700329T020000
TZOFFSETFROM:+0100
TZOFFSETTO:+0200
TZNAME:CEST
END:DAYLIGHT
END:VTIMEZONE
BEGIN:VEVENT
UID:20260421T162720CEST-7580750894@91.233.84.75
DTSTAMP:20260421T142720Z
DESCRIPTION:Festliche Trompetenmusik vom Barock zur Moderne\nMusikalische L
 eitung: Prof. Otto Sauter
DTSTART:20240814T190000
DTEND:20240814T190000
GEO:+49.45505;+12.17969
LOCATION:Marienkirche Nabburg\, Obertor 4A\, 92507 Nabburg\, Deutschland
SUMMARY:Festliche Trompetenserenade
URL:https://www.youngartistsbayreuth.de/en/event/festliche-trompetenserenad
 e-14-08-2024-19-00.html
X-APPLE-STRUCTURED-LOCATION;VALUE=URI;X-ADDRESS="Obertor 4A, Nabburg, 92507
 , Deutschland";X-APPLE-RADIUS=100;X-TITLE=Festliche Trompetenserenade:GEO:
 49.4550502\,12.1796902
END:VEVENT
END:VCALENDAR
