BEGIN:VCALENDAR
VERSION:2.0
PRODID:-//91.233.84.75//NONSGML kigkonsult.se iCalcreator 2.24//
CALSCALE:GREGORIAN
METHOD:PUBLISH
X-WR-TIMEZONE:Europe/Berlin
BEGIN:VTIMEZONE
TZID:Europe/Berlin
X-LIC-LOCATION:Europe/Berlin
BEGIN:STANDARD
DTSTART:19701025T030000
TZOFFSETFROM:+0200
TZOFFSETTO:+0100
TZNAME:CET
END:STANDARD
BEGIN:DAYLIGHT
DTSTART:19700329T020000
TZOFFSETFROM:+0100
TZOFFSETTO:+0200
TZNAME:CEST
END:DAYLIGHT
END:VTIMEZONE
BEGIN:VEVENT
UID:20260421T150152CEST-9015ca2dc5@91.233.84.75
DTSTAMP:20260421T130152Z
DESCRIPTION:Solist:innen und das Kammerorchester Turkmenistan im Rahmen des
  73. Festival junger Künstler Bayreuth\nDirigent: Razul Klychev
DTSTART:20230802T190000
DTEND:20230802T190000
GEO:+49.786969;+11.82031
LOCATION:Klosterkirche Maria Immaculata\, Klosterhof\, 92676 Speinshart\, D
 eutschland
SUMMARY:Festliches Konzert: Klänge aus der Karakum
URL:https://www.youngartistsbayreuth.de/de/veranstaltung/festliches-konzert
 -kl%C3%A4nge-aus-der-karakum-02-08-2023-19-00.html
X-APPLE-STRUCTURED-LOCATION;VALUE=URI;X-ADDRESS="Klosterhof, Speinshart, 92
 676, Deutschland";X-APPLE-RADIUS=100;X-TITLE="Festliches Konzert: Klänge a
 us der Karakum":GEO:49.7869694\,11.8203095
END:VEVENT
END:VCALENDAR
