BEGIN:VCALENDAR
VERSION:2.0
PRODID:-//91.233.84.75//NONSGML kigkonsult.se iCalcreator 2.24//
CALSCALE:GREGORIAN
METHOD:PUBLISH
X-WR-TIMEZONE:Europe/Berlin
BEGIN:VTIMEZONE
TZID:Europe/Berlin
X-LIC-LOCATION:Europe/Berlin
BEGIN:STANDARD
DTSTART:19701025T030000
TZOFFSETFROM:+0200
TZOFFSETTO:+0100
TZNAME:CET
END:STANDARD
BEGIN:DAYLIGHT
DTSTART:19700329T020000
TZOFFSETFROM:+0100
TZOFFSETTO:+0200
TZNAME:CEST
END:DAYLIGHT
END:VTIMEZONE
BEGIN:VEVENT
UID:20260421T150153CEST-1344a0875c@91.233.84.75
DTSTAMP:20260421T130153Z
DESCRIPTION:Solist:innen und das Kammerorchester Turkmenistan im Rahmen des
  73. Festival junger Künstler Bayreuth\nDirigent: Razul Klychev
DTSTART:20230804T190000
DTEND:20230804T190000
GEO:+49.981897;+11.611373
LOCATION:Pfarrkirche St. Bartholomäus\, Kirchplatz 2\, 95463 Bindlach\, Deu
 tschland
SUMMARY:Festliches Konzert: Klänge aus der Karakum
URL:https://www.youngartistsbayreuth.de/de/veranstaltung/festliches-konzert
 -kl%C3%A4nge-aus-der-karakum-04-08-2023-19-00.html
X-APPLE-STRUCTURED-LOCATION;VALUE=URI;X-ADDRESS="Kirchplatz 2, Bindlach, 95
 463, Deutschland";X-APPLE-RADIUS=100;X-TITLE="Festliches Konzert: Klänge a
 us der Karakum":GEO:49.9818972\,11.6113726
END:VEVENT
END:VCALENDAR
