BEGIN:VCALENDAR
VERSION:2.0
PRODID:-//91.233.84.75//NONSGML kigkonsult.se iCalcreator 2.24//
CALSCALE:GREGORIAN
METHOD:PUBLISH
X-WR-TIMEZONE:Europe/Berlin
BEGIN:VTIMEZONE
TZID:Europe/Berlin
X-LIC-LOCATION:Europe/Berlin
BEGIN:STANDARD
DTSTART:19701025T030000
TZOFFSETFROM:+0200
TZOFFSETTO:+0100
TZNAME:CET
END:STANDARD
BEGIN:DAYLIGHT
DTSTART:19700329T020000
TZOFFSETFROM:+0100
TZOFFSETTO:+0200
TZNAME:CEST
END:DAYLIGHT
END:VTIMEZONE
BEGIN:VEVENT
UID:20260421T164016CEST-22200b375f@91.233.84.75
DTSTAMP:20260421T144016Z
DESCRIPTION:Chor der Makedonischen Universität Thessaloniki\nGeistliche Mus
 iken mit Werken von u. a. M. Hogan\, J. S. Bach\, E. Elgar und P. da Pales
 trina im Rahmen des 73. Festival junger Künstler Bayreuth\nMusikalische Le
 itung: Dr. Maria Emma Meligopoulou
DTSTART:20230810T190000
DTEND:20230810T190000
GEO:+49.721923;+12.174468
LOCATION:Klosterkirche St. Felix\, Felixallee 32\, 92660 Neustadt a. d. Wal
 dnaab\, Deutschland
SUMMARY:Festliches Sommerkonzert: Greek Voices
URL:https://www.youngartistsbayreuth.de/en/event/festliches-sommerkonzert-g
 reek-voices-10-08-2023-19-00.html
X-APPLE-STRUCTURED-LOCATION;VALUE=URI;X-ADDRESS="Felixallee 32, Neustadt a.
  d. Waldnaab, 92660, Deutschland";X-APPLE-RADIUS=100;X-TITLE="Festliches S
 ommerkonzert: Greek Voices":GEO:49.7219232\,12.1744678
END:VEVENT
END:VCALENDAR
