BEGIN:VCALENDAR
VERSION:2.0
PRODID:-//91.233.84.75//NONSGML kigkonsult.se iCalcreator 2.24//
CALSCALE:GREGORIAN
METHOD:PUBLISH
X-WR-TIMEZONE:Europe/Berlin
BEGIN:VTIMEZONE
TZID:Europe/Berlin
X-LIC-LOCATION:Europe/Berlin
BEGIN:STANDARD
DTSTART:19701025T030000
TZOFFSETFROM:+0200
TZOFFSETTO:+0100
TZNAME:CET
END:STANDARD
BEGIN:DAYLIGHT
DTSTART:19700329T020000
TZOFFSETFROM:+0100
TZOFFSETTO:+0200
TZNAME:CEST
END:DAYLIGHT
END:VTIMEZONE
BEGIN:VEVENT
UID:20260421T163942CEST-6290303d30@91.233.84.75
DTSTAMP:20260421T143942Z
DESCRIPTION:Chor der Makedonischen Universität Thessaloniki\nGeistliche Mus
 iken mit Werken von u. a. M. Hogan\, J. S. Bach\, E. Elgar und P. da Pales
 trina im Rahmen des 73. Festival junger Künstler Bayreuth\nMusikalische Le
 itung: Dr. Maria Emma Meligopoulou
DTSTART:20230812T200000
DTEND:20230812T200000
GEO:+49.756055;+11.539265
LOCATION:Stadtpfarrkirche St. Bartholomäus\, Rosengasse 40\, 91257 Pegnitz\
 , Deutschland
SUMMARY:Festliches Sommerkonzert: Greek Voices
URL:https://www.youngartistsbayreuth.de/en/event/festliches-sommerkonzert-g
 reek-voices-12-08-2023-20-00.html
X-APPLE-STRUCTURED-LOCATION;VALUE=URI;X-ADDRESS="Rosengasse 40, Pegnitz, 91
 257, Deutschland";X-APPLE-RADIUS=100;X-TITLE="Festliches Sommerkonzert: Gr
 eek Voices":GEO:49.7560554\,11.5392653
END:VEVENT
END:VCALENDAR
