BEGIN:VCALENDAR
VERSION:2.0
PRODID:-//91.233.84.75//NONSGML kigkonsult.se iCalcreator 2.24//
CALSCALE:GREGORIAN
METHOD:PUBLISH
X-WR-TIMEZONE:Europe/Berlin
BEGIN:VTIMEZONE
TZID:Europe/Berlin
X-LIC-LOCATION:Europe/Berlin
BEGIN:STANDARD
DTSTART:19701025T030000
TZOFFSETFROM:+0200
TZOFFSETTO:+0100
TZNAME:CET
END:STANDARD
BEGIN:DAYLIGHT
DTSTART:19700329T020000
TZOFFSETFROM:+0100
TZOFFSETTO:+0200
TZNAME:CEST
END:DAYLIGHT
END:VTIMEZONE
BEGIN:VEVENT
UID:20260421T164016CEST-3225751e19@91.233.84.75
DTSTAMP:20260421T144016Z
DESCRIPTION:Regisseur: Maximilian Ponader\nFür Jugendliche im Alter von 12 
 – 15 Jahren
DTSTART:20200804T090000
DTEND:20200804T170000
GEO:+49.94286;+11.5876
LOCATION:DAS ZENTRUM\, Äußere Badstraße 7a\, 95448 Bayreuth\, Deutschland
SUMMARY:Festspielkinder 2020 - Education-Workshop II „Alles Lüge!!“ - Theat
 erstück mit Musik
URL:https://www.youngartistsbayreuth.de/en/event/festspielkinder-2020-educa
 tion-workshop-ii-alles-l%C3%BCge-04-08-2020-09-00.html
X-APPLE-STRUCTURED-LOCATION;VALUE=URI;X-ADDRESS="Äußere Badstraße 7a, Bayre
 uth, 95448, Deutschland";X-APPLE-RADIUS=100;X-TITLE=Festspielkinder 2020 -
  Education-Workshop II „Alles Lüge!!“ - Theaterstück mit Musik:GEO:49.9428
 6\,11.5876
END:VEVENT
END:VCALENDAR
