BEGIN:VCALENDAR
VERSION:2.0
PRODID:-//91.233.84.75//NONSGML kigkonsult.se iCalcreator 2.24//
CALSCALE:GREGORIAN
METHOD:PUBLISH
X-WR-TIMEZONE:Europe/Berlin
BEGIN:VTIMEZONE
TZID:Europe/Berlin
X-LIC-LOCATION:Europe/Berlin
BEGIN:STANDARD
DTSTART:19701025T030000
TZOFFSETFROM:+0200
TZOFFSETTO:+0100
TZNAME:CET
END:STANDARD
BEGIN:DAYLIGHT
DTSTART:19700329T020000
TZOFFSETFROM:+0100
TZOFFSETTO:+0200
TZNAME:CEST
END:DAYLIGHT
END:VTIMEZONE
BEGIN:VEVENT
UID:20260421T165054CEST-574326a20d@91.233.84.75
DTSTAMP:20260421T145054Z
DESCRIPTION:2. August - 4. August 2021\nWir machen unser eigenes musikalisc
 hes Fabelstück mit Musik von Jean-Baptiste Lully\nLeitung: Maximilian Pona
 der
DTSTART:20210802T090000
DTEND:20210802T170000
GEO:+49.94286;+11.5876
LOCATION:DAS ZENTRUM\, Äußere Badstraße 7a\, 95448 Bayreuth\, Deutschland
SUMMARY:Festspielkinder 2021: Education-Projekt 1 - Die fabelhafte Welt von
  Jean de la Fontaine
URL:https://www.youngartistsbayreuth.de/en/event/festspielkinder-2021-educa
 tion-projekt-1-die-fabelhafte-02-08-2021-09-00.html
X-APPLE-STRUCTURED-LOCATION;VALUE=URI;X-ADDRESS="Äußere Badstraße 7a, Bayre
 uth, 95448, Deutschland";X-APPLE-RADIUS=100;X-TITLE="Festspielkinder 2021:
  Education-Projekt 1 - Die fabelhafte Welt von Jean de la Fontaine":GEO:49
 .94286\,11.5876
END:VEVENT
END:VCALENDAR
