BEGIN:VCALENDAR
VERSION:2.0
PRODID:-//91.233.84.75//NONSGML kigkonsult.se iCalcreator 2.24//
CALSCALE:GREGORIAN
METHOD:PUBLISH
X-WR-TIMEZONE:Europe/Berlin
BEGIN:VTIMEZONE
TZID:Europe/Berlin
X-LIC-LOCATION:Europe/Berlin
BEGIN:STANDARD
DTSTART:19701025T030000
TZOFFSETFROM:+0200
TZOFFSETTO:+0100
TZNAME:CET
END:STANDARD
BEGIN:DAYLIGHT
DTSTART:19700329T020000
TZOFFSETFROM:+0100
TZOFFSETTO:+0200
TZNAME:CEST
END:DAYLIGHT
END:VTIMEZONE
BEGIN:VEVENT
UID:20260421T150446CEST-0865251bd4@91.233.84.75
DTSTAMP:20260421T130446Z
DESCRIPTION:Ein Liederabend mit Arien und Liedern von Erich W. Korngold\nLo
 uise Keast\, Sopran\nDenette Whitter\, Klavier\n
DTSTART:20220808T193000
DTEND:20220808T193000
GEO:+49.94234;+11.573768
LOCATION:Steingraeber Haus\, Kammermusiksaal\, Friedrichstraße 2\, 95445 Ba
 yreuth\, Deutschland
SUMMARY:„Glück das mir verblieb …“
URL:https://www.youngartistsbayreuth.de/de/veranstaltung/gl%C3%BCck-das-mir
 -verblieb-08-08-2022-19-30.html
X-APPLE-STRUCTURED-LOCATION;VALUE=URI;X-ADDRESS="Friedrichstraße 2, Bayreut
 h, 95445, Deutschland";X-APPLE-RADIUS=100;X-TITLE=„Glück das mir verblieb 
 …“:GEO:49.9423403\,11.5737679
END:VEVENT
END:VCALENDAR
