BEGIN:VCALENDAR
VERSION:2.0
PRODID:-//91.233.84.75//NONSGML kigkonsult.se iCalcreator 2.24//
CALSCALE:GREGORIAN
METHOD:PUBLISH
X-WR-TIMEZONE:Europe/Berlin
BEGIN:VTIMEZONE
TZID:Europe/Berlin
X-LIC-LOCATION:Europe/Berlin
BEGIN:STANDARD
DTSTART:19701025T030000
TZOFFSETFROM:+0200
TZOFFSETTO:+0100
TZNAME:CET
END:STANDARD
BEGIN:DAYLIGHT
DTSTART:19700329T020000
TZOFFSETFROM:+0100
TZOFFSETTO:+0200
TZNAME:CEST
END:DAYLIGHT
END:VTIMEZONE
BEGIN:VEVENT
UID:20260421T163933CEST-64766a72fe@91.233.84.75
DTSTAMP:20260421T143933Z
DESCRIPTION:Konzertharfe trifft auf Blues Harp\nKonzert mit Prof. Lilo Krau
 s und Chris Schmitt im Rahmen des 73. Festival junger Künstler Bayreuth
DTSTART:20230805T170000
DTEND:20230805T170000
GEO:+50.4626;+12.07428
LOCATION:Salvatorkirche\, Kirchplatz 5\, 08538 Kürbitz\, Deutschland
SUMMARY:Harp & Harp von Bach bis Blues Brothers
URL:https://www.youngartistsbayreuth.de/en/event/harp-harp-von-bach-bis-blu
 es-brothers-05-08-2023-17-00.html
X-APPLE-STRUCTURED-LOCATION;VALUE=URI;X-ADDRESS="Kirchplatz 5, Kürbitz, 085
 38, Deutschland";X-APPLE-RADIUS=100;X-TITLE=Harp & Harp von Bach bis Blues
  Brothers:GEO:50.4626\,12.07428
END:VEVENT
END:VCALENDAR
