BEGIN:VCALENDAR
VERSION:2.0
PRODID:-//91.233.84.75//NONSGML kigkonsult.se iCalcreator 2.24//
CALSCALE:GREGORIAN
METHOD:PUBLISH
X-WR-TIMEZONE:Europe/Berlin
BEGIN:VTIMEZONE
TZID:Europe/Berlin
X-LIC-LOCATION:Europe/Berlin
BEGIN:STANDARD
DTSTART:19701025T030000
TZOFFSETFROM:+0200
TZOFFSETTO:+0100
TZNAME:CET
END:STANDARD
BEGIN:DAYLIGHT
DTSTART:19700329T020000
TZOFFSETFROM:+0100
TZOFFSETTO:+0200
TZNAME:CEST
END:DAYLIGHT
END:VTIMEZONE
BEGIN:VEVENT
UID:20260421T162654CEST-82701e3447@91.233.84.75
DTSTAMP:20260421T142654Z
DESCRIPTION:Eine musikalische Reise von Europa nach Lateinamerika\nClaraliz
  Mora\, Sopran und Harfe\nPoldy Tagle\, Klavier
DTSTART:20240810T170000
DTEND:20240810T170000
GEO:+50.4626;+12.07428
LOCATION:Salvatorkirche\, Kirchplatz 5\, 08538 Kürbitz\, Deutschland
SUMMARY:Heiteres Sommerkonzert
URL:https://www.youngartistsbayreuth.de/en/event/heiteres-sommerkonzert-10-
 08-2024-17-00.html
X-APPLE-STRUCTURED-LOCATION;VALUE=URI;X-ADDRESS="Kirchplatz 5, Kürbitz, 085
 38, Deutschland";X-APPLE-RADIUS=100;X-TITLE=Heiteres Sommerkonzert:GEO:50.
 4626\,12.07428
END:VEVENT
END:VCALENDAR
