BEGIN:VCALENDAR
VERSION:2.0
PRODID:-//91.233.84.75//NONSGML kigkonsult.se iCalcreator 2.24//
CALSCALE:GREGORIAN
METHOD:PUBLISH
X-WR-TIMEZONE:Europe/Berlin
BEGIN:VTIMEZONE
TZID:Europe/Berlin
X-LIC-LOCATION:Europe/Berlin
BEGIN:STANDARD
DTSTART:19701025T030000
TZOFFSETFROM:+0200
TZOFFSETTO:+0100
TZNAME:CET
END:STANDARD
BEGIN:DAYLIGHT
DTSTART:19700329T020000
TZOFFSETFROM:+0100
TZOFFSETTO:+0200
TZNAME:CEST
END:DAYLIGHT
END:VTIMEZONE
BEGIN:VEVENT
UID:20260421T150301CEST-4684faa707@91.233.84.75
DTSTAMP:20260421T130301Z
DESCRIPTION:„Heiteres Sommerkonzert“ mit Künstlern des 75. Festival junger 
 Künstler Bayreuth. Eine Kooperation mit  AFW-Kultur Glashütten.
DTSTART:20250804T150000
DTEND:20250804T150000
GEO:+49.888293;+11.443371
LOCATION:Glashütten\, TSV Sportheim\, Schulstraße 21a\, 95496 Glashütten\, 
 Deutschland
SUMMARY:'Heiteres Sommerkonzert.' beim 'Grillfest für Senioren'
URL:https://www.youngartistsbayreuth.de/de/veranstaltung/heiteres-sommerkon
 zert-beim-grillfest-f%C3%BCr-senioren-04-08-2025-15-00.html
X-APPLE-STRUCTURED-LOCATION;VALUE=URI;X-ADDRESS="Schulstraße 21a, Glashütte
 n, 95496, Deutschland";X-APPLE-RADIUS=100;X-TITLE=Heiteres Sommerkonzert."
  beim "Grillfest für Senioren:GEO:49.8882928\,11.443371
END:VEVENT
END:VCALENDAR
