BEGIN:VCALENDAR
VERSION:2.0
PRODID:-//91.233.84.75//NONSGML kigkonsult.se iCalcreator 2.24//
CALSCALE:GREGORIAN
METHOD:PUBLISH
X-WR-TIMEZONE:Europe/Berlin
BEGIN:VTIMEZONE
TZID:Europe/Berlin
X-LIC-LOCATION:Europe/Berlin
BEGIN:STANDARD
DTSTART:19701025T030000
TZOFFSETFROM:+0200
TZOFFSETTO:+0100
TZNAME:CET
END:STANDARD
BEGIN:DAYLIGHT
DTSTART:19700329T020000
TZOFFSETFROM:+0100
TZOFFSETTO:+0200
TZNAME:CEST
END:DAYLIGHT
END:VTIMEZONE
BEGIN:VEVENT
UID:20260421T164926CEST-572160f312@91.233.84.75
DTSTAMP:20260421T144926Z
DESCRIPTION:Abschlusskonzert des Kompositionsworkshops „zweimal hören“\nGes
 amtleitung: Prof. Fredrik Schwenk\nCarmen Callejas\, Sopran\nMads Jakobsen
 \, Bariton\nJuan Elvira Márquez\, Klavier
DTSTART:20240816T190000
DTEND:20240816T190000
GEO:+49.94286;+11.5876
LOCATION:DAS ZENTRUM\, Europasaal\, Äußere Badstraße 7a\, 95448 Bayreuth\, 
 Deutschland
SUMMARY:„Herzblut“ – Liedvertonungen einst und jetzt
URL:https://www.youngartistsbayreuth.de/en/event/herzblut-liedvertonungen-e
 inst-und-jetzt-16-08-2024-19-00.html
X-APPLE-STRUCTURED-LOCATION;VALUE=URI;X-ADDRESS="Äußere Badstraße 7a, Bayre
 uth, 95448, Deutschland";X-APPLE-RADIUS=100;X-TITLE=„Herzblut“ – Liedverto
 nungen einst und jetzt:GEO:49.94286\,11.5876
END:VEVENT
END:VCALENDAR
