BEGIN:VCALENDAR
VERSION:2.0
PRODID:-//91.233.84.75//NONSGML kigkonsult.se iCalcreator 2.24//
CALSCALE:GREGORIAN
METHOD:PUBLISH
X-WR-TIMEZONE:Europe/Berlin
BEGIN:VTIMEZONE
TZID:Europe/Berlin
X-LIC-LOCATION:Europe/Berlin
BEGIN:STANDARD
DTSTART:19701025T030000
TZOFFSETFROM:+0200
TZOFFSETTO:+0100
TZNAME:CET
END:STANDARD
BEGIN:DAYLIGHT
DTSTART:19700329T020000
TZOFFSETFROM:+0100
TZOFFSETTO:+0200
TZNAME:CEST
END:DAYLIGHT
END:VTIMEZONE
BEGIN:VEVENT
UID:20260421T145714CEST-18347b5302@91.233.84.75
DTSTAMP:20260421T125714Z
DESCRIPTION:Harfenrezital mit Rosetta Schade und Dariia Ahapova im Rahmen d
 es 71. Festival junger Künstler Bayreuth\nu. a. mit Werken von I. Albeniz\
 , S. Natra\, F. Poenitz und O. Ellis
DTSTART:20210812T190000
DTEND:20210812T190000
GEO:+49.871104;+11.890271
LOCATION:Stadtpfarrkirche Mariä Himmelfahrt\, Schmidstraße 23\, 95478 Kemna
 th\, Deutschland
SUMMARY:Himmlische Klänge
URL:https://www.youngartistsbayreuth.de/de/veranstaltung/himmlische-kl%C3%A
 4nge-12-08-2021-19-00.html
X-APPLE-STRUCTURED-LOCATION;VALUE=URI;X-ADDRESS="Schmidstraße 23, Kemnath, 
 95478, Deutschland";X-APPLE-RADIUS=100;X-TITLE=Himmlische Klänge:GEO:49.87
 11043\,11.8902706
END:VEVENT
END:VCALENDAR
