BEGIN:VCALENDAR
VERSION:2.0
PRODID:-//91.233.84.75//NONSGML kigkonsult.se iCalcreator 2.24//
CALSCALE:GREGORIAN
METHOD:PUBLISH
X-WR-TIMEZONE:Europe/Berlin
BEGIN:VTIMEZONE
TZID:Europe/Berlin
X-LIC-LOCATION:Europe/Berlin
BEGIN:STANDARD
DTSTART:19701025T030000
TZOFFSETFROM:+0200
TZOFFSETTO:+0100
TZNAME:CET
END:STANDARD
BEGIN:DAYLIGHT
DTSTART:19700329T020000
TZOFFSETFROM:+0100
TZOFFSETTO:+0200
TZNAME:CEST
END:DAYLIGHT
END:VTIMEZONE
BEGIN:VEVENT
UID:20260421T163744CEST-7899d8b821@91.233.84.75
DTSTAMP:20260421T143744Z
DESCRIPTION:Christopher Miltenberger spielt Klavier-Repertoire aus Romantik
  und klassisch beeinflusstem Jazz und improvisiert\, auch über Anregungen 
 aus dem Publikum. Ein musikalisches Panoptikum zur Improvisation als kreat
 ive Nutzung des Ungewissen.
DTSTART:20210810T193000
DTEND:20210810T193000
GEO:+49.94234;+11.573768
LOCATION:Steingraeber Haus\, Kammermusiksaal\, Friedrichstraße 2\, 95445 Ba
 yreuth\, Deutschland
SUMMARY:Impromptu. Aus dem Nichts heraus
URL:https://www.youngartistsbayreuth.de/en/event/impromptu-aus-dem-nichts-h
 eraus-10-08-2021-19-30.html
X-APPLE-STRUCTURED-LOCATION;VALUE=URI;X-ADDRESS="Friedrichstraße 2, Bayreut
 h, 95445, Deutschland";X-APPLE-RADIUS=100;X-TITLE=Impromptu. Aus dem Nicht
 s heraus:GEO:49.9423403\,11.5737679
END:VEVENT
END:VCALENDAR
