BEGIN:VCALENDAR
VERSION:2.0
PRODID:-//91.233.84.75//NONSGML kigkonsult.se iCalcreator 2.24//
CALSCALE:GREGORIAN
METHOD:PUBLISH
X-WR-TIMEZONE:Europe/Berlin
BEGIN:VTIMEZONE
TZID:Europe/Berlin
X-LIC-LOCATION:Europe/Berlin
BEGIN:STANDARD
DTSTART:19701025T030000
TZOFFSETFROM:+0200
TZOFFSETTO:+0100
TZNAME:CET
END:STANDARD
BEGIN:DAYLIGHT
DTSTART:19700329T020000
TZOFFSETFROM:+0100
TZOFFSETTO:+0200
TZNAME:CEST
END:DAYLIGHT
END:VTIMEZONE
BEGIN:VEVENT
UID:20260421T162612CEST-57583fdb5a@91.233.84.75
DTSTAMP:20260421T142612Z
DESCRIPTION:„Die ganze Natur ist eine Melodie\, in der eine tiefe Harmonie 
 verborgen ist.“ - J. W. von Goethe\nu. a. mit Werken von H. Wolf\, L. v. B
 eethoven\, R. Strauss\, G. Fauré und M. Reger\nHannah Weigl\, SopranSophie
  und Vincent Neeb\, Klavier
DTSTART:20210805T193000
DTEND:20210805T193000
GEO:+49.94234;+11.573768
LOCATION:Steingraeber Haus\, Kammermusiksaal\, Friedrichstraße 2\, 95445 Ba
 yreuth\, Deutschland
SUMMARY:In voller Blüte
URL:https://www.youngartistsbayreuth.de/en/event/in-voller-bl%C3%BCte-05-08
 -2021-19-30.html
X-APPLE-STRUCTURED-LOCATION;VALUE=URI;X-ADDRESS="Friedrichstraße 2, Bayreut
 h, 95445, Deutschland";X-APPLE-RADIUS=100;X-TITLE=In voller Blüte:GEO:49.9
 423403\,11.5737679
END:VEVENT
END:VCALENDAR
