BEGIN:VCALENDAR
VERSION:2.0
PRODID:-//91.233.84.75//NONSGML kigkonsult.se iCalcreator 2.24//
CALSCALE:GREGORIAN
METHOD:PUBLISH
X-WR-TIMEZONE:Europe/Berlin
BEGIN:VTIMEZONE
TZID:Europe/Berlin
X-LIC-LOCATION:Europe/Berlin
BEGIN:STANDARD
DTSTART:19701025T030000
TZOFFSETFROM:+0200
TZOFFSETTO:+0100
TZNAME:CET
END:STANDARD
BEGIN:DAYLIGHT
DTSTART:19700329T020000
TZOFFSETFROM:+0100
TZOFFSETTO:+0200
TZNAME:CEST
END:DAYLIGHT
END:VTIMEZONE
BEGIN:VEVENT
UID:20260421T150029CEST-4318541400@91.233.84.75
DTSTAMP:20260421T130029Z
DESCRIPTION:mit Dr. Pooyan Azadeh und Gastdozent Dr. Scott McBride Smith
DTSTART:20230806T110000
DTEND:20230806T130000
GEO:+49.94234;+11.573768
LOCATION:Steingraeber Haus\, Friedrichstraße 2\, 95445 Bayreuth\, Deutschla
 nd
SUMMARY:Interkulturelles Klavierpädagogik-Projekt
URL:https://www.youngartistsbayreuth.de/de/veranstaltung/interkulturelles-k
 lavierp%C3%A4dagogik-projekt-06-08-2023-11-00.html
X-APPLE-STRUCTURED-LOCATION;VALUE=URI;X-ADDRESS="Friedrichstraße 2, Bayreut
 h, 95445, Deutschland";X-APPLE-RADIUS=100;X-TITLE=Interkulturelles Klavier
 pädagogik-Projekt:GEO:49.9423403\,11.5737679
END:VEVENT
END:VCALENDAR
