BEGIN:VCALENDAR
VERSION:2.0
PRODID:-//91.233.84.75//NONSGML kigkonsult.se iCalcreator 2.24//
CALSCALE:GREGORIAN
METHOD:PUBLISH
X-WR-TIMEZONE:Europe/Berlin
BEGIN:VTIMEZONE
TZID:Europe/Berlin
X-LIC-LOCATION:Europe/Berlin
BEGIN:STANDARD
DTSTART:19701025T030000
TZOFFSETFROM:+0200
TZOFFSETTO:+0100
TZNAME:CET
END:STANDARD
BEGIN:DAYLIGHT
DTSTART:19700329T020000
TZOFFSETFROM:+0100
TZOFFSETTO:+0200
TZNAME:CEST
END:DAYLIGHT
END:VTIMEZONE
BEGIN:VEVENT
UID:20260421T161825CEST-26731db32b@91.233.84.75
DTSTAMP:20260421T141825Z
DESCRIPTION:Liederabend mit Georgios Iatrou\, Bariton und Yorgos Ziavras\, 
 Klavier
DTSTART:20210803T190000
DTEND:20210803T190000
GEO:+49.94286;+11.5876
LOCATION:DAS ZENTRUM\, Europasaal\, Äußere Badstraße 7a\, 95448 Bayreuth\, 
 Deutschland
SUMMARY:It's a sin! - Eine Drag-Reise durch Sünde
URL:https://www.youngartistsbayreuth.de/de/veranstaltung/its-a-sin-eine-dra
 g-reise-durch-s%C3%BCnde-03-08-2021-19-00.html
X-APPLE-STRUCTURED-LOCATION;VALUE=URI;X-ADDRESS="Äußere Badstraße 7a, Bayre
 uth, 95448, Deutschland";X-APPLE-RADIUS=100;X-TITLE=It's a sin! - Eine Dra
 g-Reise durch Sünde:GEO:49.94286\,11.5876
END:VEVENT
END:VCALENDAR
