BEGIN:VCALENDAR
VERSION:2.0
PRODID:-//91.233.84.75//NONSGML kigkonsult.se iCalcreator 2.24//
CALSCALE:GREGORIAN
METHOD:PUBLISH
X-WR-TIMEZONE:Europe/Berlin
BEGIN:VTIMEZONE
TZID:Europe/Berlin
X-LIC-LOCATION:Europe/Berlin
BEGIN:STANDARD
DTSTART:19701025T030000
TZOFFSETFROM:+0200
TZOFFSETTO:+0100
TZNAME:CET
END:STANDARD
BEGIN:DAYLIGHT
DTSTART:19700329T020000
TZOFFSETFROM:+0100
TZOFFSETTO:+0200
TZNAME:CEST
END:DAYLIGHT
END:VTIMEZONE
BEGIN:VEVENT
UID:20260421T163840CEST-8387eccb2d@91.233.84.75
DTSTAMP:20260421T143840Z
DESCRIPTION:Festliches Konzert mit Werken von F. Liszt und N. A. Rimski-Kor
 sakow\nEinspielung des Jugendsymphonieorchesters der Ukraine unter dem Dir
 igat von Oksana Lyniv\nModeration: Sissy Thammer
DTSTART:20210814T190000
DTEND:20210814T190000
GEO:+49.984096;+11.770233
LOCATION:Steinachtal\, Bayreuther Straße 86\, 95485 Warmensteinach\, Deutsc
 hland
SUMMARY:Klangwolke über dem Steinachtal
URL:https://www.youngartistsbayreuth.de/en/event/klangwolke-%C3%BCber-dem-s
 teinachtal-14-08-2021-19-00.html
X-APPLE-STRUCTURED-LOCATION;VALUE=URI;X-ADDRESS="Bayreuther Straße 86, Warm
 ensteinach, 95485, Deutschland";X-APPLE-RADIUS=100;X-TITLE=Klangwolke über
  dem Steinachtal:GEO:49.984096\,11.7702332
END:VEVENT
END:VCALENDAR
