BEGIN:VCALENDAR
VERSION:2.0
PRODID:-//91.233.84.75//NONSGML kigkonsult.se iCalcreator 2.24//
CALSCALE:GREGORIAN
METHOD:PUBLISH
X-WR-TIMEZONE:Europe/Berlin
BEGIN:VTIMEZONE
TZID:Europe/Berlin
X-LIC-LOCATION:Europe/Berlin
BEGIN:STANDARD
DTSTART:19701025T030000
TZOFFSETFROM:+0200
TZOFFSETTO:+0100
TZNAME:CET
END:STANDARD
BEGIN:DAYLIGHT
DTSTART:19700329T020000
TZOFFSETFROM:+0100
TZOFFSETTO:+0200
TZNAME:CEST
END:DAYLIGHT
END:VTIMEZONE
BEGIN:VEVENT
UID:20260421T164117CEST-2377ebc898@91.233.84.75
DTSTAMP:20260421T144117Z
DESCRIPTION:Werke von L. v. Beethoven und W. A. Mozart gesetzt für Streichs
 extett\nMellon Ensemble im Rahmen des 70. Festival junger Künstler Bayreut
 h
DTSTART:20200807T190000
DTEND:20200807T190000
GEO:+49.99474;+11.784584
LOCATION:Evangelische Dreifaltigkeitskirche\, Kirchweg 19\, 95485 Warmenste
 inach\, Deutschland
SUMMARY:„Klangwolke über dem Steinachtal“ - Festliche Serenade
URL:https://www.youngartistsbayreuth.de/en/event/klangwolke-%C3%BCber-dem-s
 teinachtal-festliche-serenade-07-08-2020-19-00.html
X-APPLE-STRUCTURED-LOCATION;VALUE=URI;X-ADDRESS="Kirchweg 19, Warmensteinac
 h, 95485, Deutschland";X-APPLE-RADIUS=100;X-TITLE=„Klangwolke über dem Ste
 inachtal“ - Festliche Serenade:GEO:49.9947401\,11.7845842
END:VEVENT
END:VCALENDAR
