BEGIN:VCALENDAR
VERSION:2.0
PRODID:-//91.233.84.75//NONSGML kigkonsult.se iCalcreator 2.24//
CALSCALE:GREGORIAN
METHOD:PUBLISH
X-WR-TIMEZONE:Europe/Berlin
BEGIN:VTIMEZONE
TZID:Europe/Berlin
X-LIC-LOCATION:Europe/Berlin
BEGIN:STANDARD
DTSTART:19701025T030000
TZOFFSETFROM:+0200
TZOFFSETTO:+0100
TZNAME:CET
END:STANDARD
BEGIN:DAYLIGHT
DTSTART:19700329T020000
TZOFFSETFROM:+0100
TZOFFSETTO:+0200
TZNAME:CEST
END:DAYLIGHT
END:VTIMEZONE
BEGIN:VEVENT
UID:20260421T162726CEST-9935499436@91.233.84.75
DTSTAMP:20260421T142726Z
DESCRIPTION:Werke von J. S. Bach\, F. Schubert und F. Mendelssohn Bartholdy
 \nUniversity of Illinois Electric Strings Ensemble:Chuck BontragerMatt Bel
 lAndreas Ruiz-GehrtIon-Alexandru Malaimare\nMusikalische Leitung: Rudolf H
 aken
DTSTART:20210728T180000
DTEND:20210728T180000
GEO:+49.94286;+11.5876
LOCATION:DAS ZENTRUM\, digital im Kultursalon\, Äußere Badstraße 7a\, 95448
  Bayreuth\, Deutschland
SUMMARY:Klassik auf E-Geigen: Konzert 1
URL:https://www.youngartistsbayreuth.de/en/event/klassik-auf-e-geigen-konze
 rt-1-28-07-2021-18-00.html
X-APPLE-STRUCTURED-LOCATION;VALUE=URI;X-ADDRESS="Äußere Badstraße 7a, Bayre
 uth, 95448, Deutschland";X-APPLE-RADIUS=100;X-TITLE="Klassik auf E-Geigen:
  Konzert 1":GEO:49.94286\,11.5876
END:VEVENT
END:VCALENDAR
