BEGIN:VCALENDAR
VERSION:2.0
PRODID:-//91.233.84.75//NONSGML kigkonsult.se iCalcreator 2.24//
CALSCALE:GREGORIAN
METHOD:PUBLISH
X-WR-TIMEZONE:Europe/Berlin
BEGIN:VTIMEZONE
TZID:Europe/Berlin
X-LIC-LOCATION:Europe/Berlin
BEGIN:STANDARD
DTSTART:19701025T030000
TZOFFSETFROM:+0200
TZOFFSETTO:+0100
TZNAME:CET
END:STANDARD
BEGIN:DAYLIGHT
DTSTART:19700329T020000
TZOFFSETFROM:+0100
TZOFFSETTO:+0200
TZNAME:CEST
END:DAYLIGHT
END:VTIMEZONE
BEGIN:VEVENT
UID:20260421T162720CEST-6441f9cd31@91.233.84.75
DTSTAMP:20260421T142720Z
DESCRIPTION:Ganz im Sinne des diesjährigen Generalthemas „Transformation. T
 radition. Aufbruch.“ transformiert das Electric Strings Ensemble tradition
 elle\, klassische Musik und wagt den Aufbruch durch die Neu-Interpretation
  der Stücke mit E-Geigen. Die Werke wurden mühevoll und in respektvollem U
 mgang mit den Komponisten bearbeitet\, um in Verbindung mit den einzigarti
 gen Klang-Spektren der E-Instrumente ganz neue Stücke zu erschaffen.\n \nW
 erke von E. Ysaÿe\, F. Seitz und G. I. Dinicu\nUniversity of Illinois Elec
 tric Strings Ensemble:Chuck BontragerMatt BellAndreas Ruiz-GehrtIon-Alexan
 dru Malaimare\nMusikalische Leitung: Rudolf Haken
DTSTART:20210730T180000
DTEND:20210730T180000
GEO:+49.94286;+11.5876
LOCATION:DAS ZENTRUM\, digital im Kultursalon\, Äußere Badstraße 7a\, 95448
  Bayreuth\, Deutschland
SUMMARY:Klassik auf E-Geigen: Konzert 2
URL:https://www.youngartistsbayreuth.de/en/event/klassik-auf-e-geigen-konze
 rt-2-30-07-2021-18-00.html
X-APPLE-STRUCTURED-LOCATION;VALUE=URI;X-ADDRESS="Äußere Badstraße 7a, Bayre
 uth, 95448, Deutschland";X-APPLE-RADIUS=100;X-TITLE="Klassik auf E-Geigen:
  Konzert 2":GEO:49.94286\,11.5876
END:VEVENT
END:VCALENDAR
