BEGIN:VCALENDAR
VERSION:2.0
PRODID:-//91.233.84.75//NONSGML kigkonsult.se iCalcreator 2.24//
CALSCALE:GREGORIAN
METHOD:PUBLISH
X-WR-TIMEZONE:Europe/Berlin
BEGIN:VTIMEZONE
TZID:Europe/Berlin
X-LIC-LOCATION:Europe/Berlin
BEGIN:STANDARD
DTSTART:19701025T030000
TZOFFSETFROM:+0200
TZOFFSETTO:+0100
TZNAME:CET
END:STANDARD
BEGIN:DAYLIGHT
DTSTART:19700329T020000
TZOFFSETFROM:+0100
TZOFFSETTO:+0200
TZNAME:CEST
END:DAYLIGHT
END:VTIMEZONE
BEGIN:VEVENT
UID:20260421T162720CEST-6405e0a449@91.233.84.75
DTSTAMP:20260421T142720Z
DESCRIPTION:Regisseur: Maximilian Ponader\nBei Regen findet die Veranstaltu
 ng auf der Kleinkunstbühne im Zentrum (Äußere Badstraße 7A\, 95448 Bayreut
 h) statt.
DTSTART:20210816T170000
DTEND:20210816T170000
GEO:+49.94464;+11.57756
LOCATION:Schlossterrasse und La-Spezia-Platz\, Opernstraße 9\, 95444 Bayreu
 th\, Deutschland
SUMMARY:Kleines Welttheater 2.0
URL:https://www.youngartistsbayreuth.de/en/event/kleines-welttheater-2-0-16
 -08-2021-17-00.html
X-APPLE-STRUCTURED-LOCATION;VALUE=URI;X-ADDRESS="Opernstraße 9, Bayreuth, 9
 5444, Deutschland";X-APPLE-RADIUS=100;X-TITLE=Kleines Welttheater 2.0:GEO:
 49.94464\,11.57756
END:VEVENT
END:VCALENDAR
