BEGIN:VCALENDAR
VERSION:2.0
PRODID:-//91.233.84.75//NONSGML kigkonsult.se iCalcreator 2.24//
CALSCALE:GREGORIAN
METHOD:PUBLISH
X-WR-TIMEZONE:Europe/Berlin
BEGIN:VTIMEZONE
TZID:Europe/Berlin
X-LIC-LOCATION:Europe/Berlin
BEGIN:STANDARD
DTSTART:19701025T030000
TZOFFSETFROM:+0200
TZOFFSETTO:+0100
TZNAME:CET
END:STANDARD
BEGIN:DAYLIGHT
DTSTART:19700329T020000
TZOFFSETFROM:+0100
TZOFFSETTO:+0200
TZNAME:CEST
END:DAYLIGHT
END:VTIMEZONE
BEGIN:VEVENT
UID:20260421T164118CEST-4378e6ba4f@91.233.84.75
DTSTAMP:20260421T144118Z
DESCRIPTION:Regisseur: Maximilian Ponader
DTSTART:20200809T160000
DTEND:20200809T160000
GEO:+49.939852;+11.579859
LOCATION:Sonnentempel im Hofgarten\, Ludwigstraße 21\, 95444 Bayreuth\, Deu
 tschland
SUMMARY:Kleines Welttheater - Open-Air-Komödie im barocken Gartentheatersti
 l - Neuer Ort\, s. u.
URL:https://www.youngartistsbayreuth.de/en/event/kleines-welttheater-open-a
 ir-kom%C3%B6die-im-barocken-09-08-2020-16-00.html
X-APPLE-STRUCTURED-LOCATION;VALUE=URI;X-ADDRESS="Ludwigstraße 21, Bayreuth,
  95444, Deutschland";X-APPLE-RADIUS=100;X-TITLE="Kleines Welttheater - Ope
 n-Air-Komödie im barocken Gartentheaterstil - Neuer Ort, s. u.":GEO:49.939
 852\,11.579859
END:VEVENT
END:VCALENDAR
