BEGIN:VCALENDAR
VERSION:2.0
PRODID:-//91.233.84.75//NONSGML kigkonsult.se iCalcreator 2.24//
CALSCALE:GREGORIAN
METHOD:PUBLISH
X-WR-TIMEZONE:Europe/Berlin
BEGIN:VTIMEZONE
TZID:Europe/Berlin
X-LIC-LOCATION:Europe/Berlin
BEGIN:STANDARD
DTSTART:19701025T030000
TZOFFSETFROM:+0200
TZOFFSETTO:+0100
TZNAME:CET
END:STANDARD
BEGIN:DAYLIGHT
DTSTART:19700329T020000
TZOFFSETFROM:+0100
TZOFFSETTO:+0200
TZNAME:CEST
END:DAYLIGHT
END:VTIMEZONE
BEGIN:VEVENT
UID:20260421T165125CEST-82077cb7e6@91.233.84.75
DTSTAMP:20260421T145125Z
DESCRIPTION:Gespräch mit Prof. Fredrik Schwenk
DTSTART:20200805T110000
DTEND:20200805T110000
GEO:+49.94234;+11.573768
LOCATION:Steingraeber Haus\, Kammermusiksaal\, Friedrichstraße 2\, 95445 Ba
 yreuth\, Deutschland
SUMMARY:Kultursalon - Das kauzige Genie: Was Sie schon immer über L. v. Bee
 thoven wissen wollten...
URL:https://www.youngartistsbayreuth.de/en/event/kultursalon-das-kauzige-ge
 nie-was-sie-schon-immer-%C3%BCber-l-05-08-2020-11-00.html
X-APPLE-STRUCTURED-LOCATION;VALUE=URI;X-ADDRESS="Friedrichstraße 2, Bayreut
 h, 95445, Deutschland";X-APPLE-RADIUS=100;X-TITLE="Kultursalon - Das kauzi
 ge Genie: Was Sie schon immer über L. v. Beethoven wissen wollten...":GEO:
 49.9423403\,11.5737679
END:VEVENT
END:VCALENDAR
