BEGIN:VCALENDAR
VERSION:2.0
PRODID:-//91.233.84.75//NONSGML kigkonsult.se iCalcreator 2.24//
CALSCALE:GREGORIAN
METHOD:PUBLISH
X-WR-TIMEZONE:Europe/Berlin
BEGIN:VTIMEZONE
TZID:Europe/Berlin
X-LIC-LOCATION:Europe/Berlin
BEGIN:STANDARD
DTSTART:19701025T030000
TZOFFSETFROM:+0200
TZOFFSETTO:+0100
TZNAME:CET
END:STANDARD
BEGIN:DAYLIGHT
DTSTART:19700329T020000
TZOFFSETFROM:+0100
TZOFFSETTO:+0200
TZNAME:CEST
END:DAYLIGHT
END:VTIMEZONE
BEGIN:VEVENT
UID:20260421T165054CEST-87040300a7@91.233.84.75
DTSTAMP:20260421T145054Z
DESCRIPTION:Die Entwicklung eines erfolgreichen Geschäftsmodells über siebe
 n Jahrzehntemit M. Sc. Franziska Kullak\n- nur nach Anmeldung -
DTSTART:20200729T110000
DTEND:20200729T110000
GEO:+49.94286;+11.5876
LOCATION:DAS ZENTRUM\, Äußere Badstraße 7a\, 95448 Bayreuth\, Deutschland
SUMMARY:Kultursalon - Festival junger Künstler Bayreuth: Wie ein Phoenix au
 s der Asche
URL:https://www.youngartistsbayreuth.de/en/event/kultursalon-festival-junge
 r-k%C3%BCnstler-bayreuth-wie-ein-29-07-2020-11-00.html
X-APPLE-STRUCTURED-LOCATION;VALUE=URI;X-ADDRESS="Äußere Badstraße 7a, Bayre
 uth, 95448, Deutschland";X-APPLE-RADIUS=100;X-TITLE="Kultursalon - Festiva
 l junger Künstler Bayreuth: Wie ein Phoenix aus der Asche":GEO:49.94286\,1
 1.5876
END:VEVENT
END:VCALENDAR
