BEGIN:VCALENDAR
VERSION:2.0
PRODID:-//91.233.84.75//NONSGML kigkonsult.se iCalcreator 2.24//
CALSCALE:GREGORIAN
METHOD:PUBLISH
X-WR-TIMEZONE:Europe/Berlin
BEGIN:VTIMEZONE
TZID:Europe/Berlin
X-LIC-LOCATION:Europe/Berlin
BEGIN:STANDARD
DTSTART:19701025T030000
TZOFFSETFROM:+0200
TZOFFSETTO:+0100
TZNAME:CET
END:STANDARD
BEGIN:DAYLIGHT
DTSTART:19700329T020000
TZOFFSETFROM:+0100
TZOFFSETTO:+0200
TZNAME:CEST
END:DAYLIGHT
END:VTIMEZONE
BEGIN:VEVENT
UID:20260421T162533CEST-03533b908f@91.233.84.75
DTSTAMP:20260421T142533Z
DESCRIPTION:Konzert mit lateinamerikanischer Sakralmusik\nAriel Ramirez: Mi
 sa CriollaHeitor Villa Lobos: Bachianas Brasileiras Nr.5Martin Palmeri: Mi
 sa Tango\nSolisten und Solistinnen\, Chöre und Ensemble des 74. Festival j
 unger Künstler Bayreuth\nMusikalische Leitung: Fred Sjöberg
DTSTART:20240810T190000
DTEND:20240810T190000
GEO:+49.786969;+11.82031
LOCATION:Klosterkirche Maria Immaculata\, Klosterhof\, 92676 Speinshart\, D
 eutschland
SUMMARY:Latino Sacro
URL:https://www.youngartistsbayreuth.de/en/event/latino-sacro-10-08-2024-19
 -00.html
X-APPLE-STRUCTURED-LOCATION;VALUE=URI;X-ADDRESS="Klosterhof, Speinshart, 92
 676, Deutschland";X-APPLE-RADIUS=100;X-TITLE=Latino Sacro:GEO:49.7869694\,
 11.8203095
END:VEVENT
END:VCALENDAR
