BEGIN:VCALENDAR
VERSION:2.0
PRODID:-//91.233.84.75//NONSGML kigkonsult.se iCalcreator 2.24//
CALSCALE:GREGORIAN
METHOD:PUBLISH
X-WR-TIMEZONE:Europe/Berlin
BEGIN:VTIMEZONE
TZID:Europe/Berlin
X-LIC-LOCATION:Europe/Berlin
BEGIN:STANDARD
DTSTART:19701025T030000
TZOFFSETFROM:+0200
TZOFFSETTO:+0100
TZNAME:CET
END:STANDARD
BEGIN:DAYLIGHT
DTSTART:19700329T020000
TZOFFSETFROM:+0100
TZOFFSETTO:+0200
TZNAME:CEST
END:DAYLIGHT
END:VTIMEZONE
BEGIN:VEVENT
UID:20260421T150300CEST-734515dd94@91.233.84.75
DTSTAMP:20260421T130300Z
DESCRIPTION:Silke Aichhorn\, HarfeLisa Wellisch\, Klavier\n \nIn Kooperatio
 n mit der Mozartgesellschaft Bayreuth\nWas Mozart auf seinen beschwerliche
 n Kutschfahrten oder mit exzentrischen adeligen Auftraggebern erlebte\, un
 terscheidet sich nur bedingt von den heutigen Odysseen mit der Bahn\, zuwe
 ilen skurrilen Konzertveranstaltern und verrückten Bühnensituationen. Von 
 Rossinis Kochkünsten\, Schumanns wilden Studentenzeiten – hier lernen Sie 
 große Komponistinnen und Komponisten einmal ganz privat kennen … Silke Aic
 hhorn und Lisa Wellisch spielen Werke von Mozart bis heute und erzählen da
 zu unterhaltsame Anekdoten aus der Klassikwelt. Das etwas andere Konzertfo
 rmat – ihre Ohren werden Augen machen! Dabei wurden die musikalisch hochka
 rätig präsentierten Bonmots aus dem 18. bis 20. Jahrhundert immer wieder k
 östlich mit Zitaten aus persönlichen Briefen der Komponisten\, aktuellen E
 rfahrungen\, unglaublichen Geschichten und völlig abgehobenen Bühnensituat
 ionen untermalt. Über 500 Zuhörer wurde ein Schmunzeln in die Gesichtszüge
  gezaubert\, welches sich häufig zu Lachsalven steigerte.Debütkonzert in d
 er Elbphilharmonie Hamburg\, November 2024
DTSTART:20250807T190000
DTEND:20250807T190000
GEO:+49.94286;+11.5876
LOCATION:DAS ZENTRUM\, Europasaal\, Äußere Badstraße 7a\, 95448 Bayreuth\, 
 Deutschland
SUMMARY:'Lebenslänglich frohlocken' - Skurriles aus der Musikwelt
URL:https://www.youngartistsbayreuth.de/de/veranstaltung/lebensl%C3%A4nglic
 h-frohlocken-skurriles-aus-der-musikwelt-07-08-2025-19-00.html
X-APPLE-STRUCTURED-LOCATION;VALUE=URI;X-ADDRESS="Äußere Badstraße 7a, Bayre
 uth, 95448, Deutschland";X-APPLE-RADIUS=100;X-TITLE=Lebenslänglich frohloc
 ken" - Skurriles aus der Musikwelt:GEO:49.94286\,11.5876
END:VEVENT
END:VCALENDAR
