BEGIN:VCALENDAR
VERSION:2.0
PRODID:-//91.233.84.75//NONSGML kigkonsult.se iCalcreator 2.24//
CALSCALE:GREGORIAN
METHOD:PUBLISH
X-WR-TIMEZONE:Europe/Berlin
BEGIN:VTIMEZONE
TZID:Europe/Berlin
X-LIC-LOCATION:Europe/Berlin
BEGIN:STANDARD
DTSTART:19701025T030000
TZOFFSETFROM:+0200
TZOFFSETTO:+0100
TZNAME:CET
END:STANDARD
BEGIN:DAYLIGHT
DTSTART:19700329T020000
TZOFFSETFROM:+0100
TZOFFSETTO:+0200
TZNAME:CEST
END:DAYLIGHT
END:VTIMEZONE
BEGIN:VEVENT
UID:20260421T164926CEST-1734f10284@91.233.84.75
DTSTAMP:20260421T144926Z
DESCRIPTION:mit Musik von F. Poulenc\, E. Satie und D. Milhaud\nChristian B
 enning\, Percussion\nArcis Saxophon Quartett: Claus Hierluksch\, Ricarda F
 uss\, Anna-Marie Schäfer und Jure Knez im Rahmen des 73. Festival junger K
 ünstler Bayreuth\n(Bei Schlechtwetter in der Klosterkirche)
DTSTART:20230809T190000
DTEND:20230809T190000
GEO:+49.786969;+11.82031
LOCATION:Innenhof der Abtei &#40\;Open Air&#41\;\, Kloster\, 92676 Speinsha
 rt\, Deutschland
SUMMARY:Les Six mit Perkussionist Christian Benning
URL:https://www.youngartistsbayreuth.de/en/event/les-six-mit-perkussionist-
 christian-benning-09-08-2023-19-00.html
X-APPLE-STRUCTURED-LOCATION;VALUE=URI;X-ADDRESS="Kloster, Speinshart, 92676
 , Deutschland";X-APPLE-RADIUS=100;X-TITLE=Les Six mit Perkussionist Christ
 ian Benning:GEO:49.7869694\,11.8203095
END:VEVENT
END:VCALENDAR
