BEGIN:VCALENDAR
VERSION:2.0
PRODID:-//91.233.84.75//NONSGML kigkonsult.se iCalcreator 2.24//
CALSCALE:GREGORIAN
METHOD:PUBLISH
X-WR-TIMEZONE:Europe/Berlin
BEGIN:VTIMEZONE
TZID:Europe/Berlin
X-LIC-LOCATION:Europe/Berlin
BEGIN:STANDARD
DTSTART:19701025T030000
TZOFFSETFROM:+0200
TZOFFSETTO:+0100
TZNAME:CET
END:STANDARD
BEGIN:DAYLIGHT
DTSTART:19700329T020000
TZOFFSETFROM:+0100
TZOFFSETTO:+0200
TZNAME:CEST
END:DAYLIGHT
END:VTIMEZONE
BEGIN:VEVENT
UID:20260421T163842CEST-46250259eb@91.233.84.75
DTSTAMP:20260421T143842Z
DESCRIPTION:Video-Clip-ProjektionenWir danken für die Kooperation mit Neune
 inhalb e.V.\n \nBayreuth Innenstadt - Forum Phoinix - Das Zentrum\, Europa
 saal & Open Air - Livestream auf Facebook und im Web\n \nMusikfestival 'SO
 L- Bayreuther Sommer der Liebe / Bayreuth Summer of Love'\nKünstlerische L
 eitung Vladimir Ivanoff / Veranstalter: Festival Junger Künstler Bayreuth
 \nDer Sommer der Liebe 1967. Eines der sozial-politisch-kulturellen Schlüs
 selereignisse des 20. Jahrhunderts. 'All you need is love' – alles was wir
  brauchen\, ist Liebe. So einfach wie dieser Vers aus dem bekannten Song d
 er Beatles war der Geist dieser Zeit. Ein kurzer Moment\, der die Welt ver
 wandelte\, und das (nur) mit Liedern. Wir leben in einer schwer greifbaren
  'grauen' Zeit. Wir wollen im Bayreuther Sommer der Liebe eine Gemeinschaf
 t schaffen\; wieder mit einem Herzen hören\, sehen und fühlen. Der dahinte
 rstehende Glaube: Kultur\, Musik können die Welt verändern\, vielleicht he
 ilen. Unser Musikfestival wird von einer Filmreihe 'Sommer der Liebe' mit 
 ikonischen Filmen der 60erJahre begleitet\nNacht auf Erden - Licht ins Dun
 kel\nIm ersten Teil des Festivals geht es um die NACHT AUF ERDEN - NIGHT O
 N EARTH (Sa. 1. -So. 2.8.)\, die Dunkelheit der notwendigen Isolation und 
 die beginnende Vereinsamung. Mit mehreren Konzerten und filmischen Mitteln
  wollen wir aber auch Licht ins Dunkel bringen. Die Innenstadt von Bayreut
 h wird in den Nächten vom 1.-8. August in Licht mit Projektionen von Musik
 videos und Statements\, Clips\, von Freunden des Festivals aus aller Welt.
 \, die auch in den Konzerten projiziert werden.\nWir wollen nun alle Stude
 ntInnen\, denen Kultur\, Kunst\, Musik\, Film am Herzen liegen bitten uns 
 Beiträge zur Verfügung zu stellen:\n- Musikvideos\, Kurzfilme\, gefilmte S
 tatements bzw. Performances aller Art\;\nzum Beispiel zu den Themen und Fr
 agen:\n- die ganze Welt scheint sich gerade in einem Zustand kollektiver I
 mprovisation zu befinden - wir kennen den Ausgang nicht. Was ist eine gelu
 ngene (erfolgreiche) Improvisation für Dich? Kannst Du uns eine Improvisat
 ion zum Thema 'Nascht auf Erden' schicken? Musik\, Tanz Poesie\, Rap - as 
 you like!\n- Wenn Du König(in) von Bayreuth wärest: wie würde Dein Bayreut
 her Sommer der Liebe verlaufen?\n- Musik kann einstimmig oder vielstimmig 
 sein. Damit bildet sie auch die menschliche Gemeinschaft ab - im Moment en
 twickelt sich eine in jeder Beziehung vielstimmige Welt. Wenn sie dann ein
 e Stimme finden kann: welche sollte das sein?\n- Das 'Vollkommene Licht' (
 der Titel des zweiten Teils des Festivals)\, welches die Welt aus der Dunk
 elheit befreit: wie sieht es aus? Welche Farbe hat es? Wie klingt es?\n- '
 Purple Haze' (natürlich Jimi Hendrix im Sommer der Liebe!) ist der Titel d
 es dritten Festivalabschnitts. Es geht um das\, was die 60er Jahre und den
  damaligen Sommer bewegte\, und das was uns auch heute noch bewegt: sich v
 erlieren\, aus sich treten\, das Bewusstsein erweitern - mittels Meditatio
 n und Yoga\, aber auch mit verschiedenen Drogen\, oder in erotischer Eksta
 se. Wo seht ihr den besten Weg in die Transzendenz?\n- das Wochenende 7. -
  9. August ist: 'Celebrate'. Feiern ist lebenswichtig\; gerade jetzt. Feie
 rt doch bitte mit und sendet uns ein Video\, welches mit uns feiert!\nEs w
 äre gut\, viele und vielfältige Clips zu bekommen\, damit die Welt auch au
 f der Leinwand und im Netz und Stream Bayreuth trifft!\nVielen Dank im Vor
 aus dafür\, dass ihr mitmacht!\nTheresa Bürkle und Vladimir Ivanoff ( SOL 
 - Summer of Love)
DTSTART:20200802T190000
DTEND:20200802T220000
GEO:+49.943808;+11.574283
LOCATION:Forum Phoinix & Livestream auf Facebook\, Kämmereigasse 9 1/2\, 95
 444 Bayreuth\, Deutschland
SUMMARY:Licht in das Dunkel - Liebesgrüße aus aller Welt an Bayreuth
URL:https://www.youngartistsbayreuth.de/en/event/licht-in-das-dunkel-videop
 rojektionen-02-08-2020-22-00.html
X-APPLE-STRUCTURED-LOCATION;VALUE=URI;X-ADDRESS="Kämmereigasse 9 1/2, Bayre
 uth, 95444, Deutschland";X-APPLE-RADIUS=100;X-TITLE=Licht in das Dunkel - 
 Liebesgrüße aus aller Welt an Bayreuth:GEO:49.9438081\,11.5742834
END:VEVENT
END:VCALENDAR
