BEGIN:VCALENDAR
VERSION:2.0
PRODID:-//91.233.84.75//NONSGML kigkonsult.se iCalcreator 2.24//
CALSCALE:GREGORIAN
METHOD:PUBLISH
X-WR-TIMEZONE:Europe/Berlin
BEGIN:VTIMEZONE
TZID:Europe/Berlin
X-LIC-LOCATION:Europe/Berlin
BEGIN:STANDARD
DTSTART:19701025T030000
TZOFFSETFROM:+0200
TZOFFSETTO:+0100
TZNAME:CET
END:STANDARD
BEGIN:DAYLIGHT
DTSTART:19700329T020000
TZOFFSETFROM:+0100
TZOFFSETTO:+0200
TZNAME:CEST
END:DAYLIGHT
END:VTIMEZONE
BEGIN:VEVENT
UID:20260421T163744CEST-68854c5c85@91.233.84.75
DTSTAMP:20260421T143744Z
DESCRIPTION:Lieder über eine Krise mit Werken von G. Mahler\, R. Strauss un
 d H. Eisler\nGeorgios Iatrou\, BaritonYorgos Ziavras\, Klavier
DTSTART:20200809T190000
DTEND:20200809T190000
GEO:+49.94286;+11.5876
LOCATION:DAS ZENTRUM\, Europasaal\, Äußere Badstraße 7a\, 95448 Bayreuth\, 
 Deutschland
SUMMARY:Liederabend „Ihr tretet mir zu nah...“
URL:https://www.youngartistsbayreuth.de/en/event/liederabend-ihr-tretet-mir
 -zu-nah-09-08-2020-19-00.html
X-APPLE-STRUCTURED-LOCATION;VALUE=URI;X-ADDRESS="Äußere Badstraße 7a, Bayre
 uth, 95448, Deutschland";X-APPLE-RADIUS=100;X-TITLE=Liederabend „Ihr trete
 t mir zu nah...“:GEO:49.94286\,11.5876
END:VEVENT
END:VCALENDAR
