BEGIN:VCALENDAR
VERSION:2.0
PRODID:-//91.233.84.75//NONSGML kigkonsult.se iCalcreator 2.24//
CALSCALE:GREGORIAN
METHOD:PUBLISH
X-WR-TIMEZONE:Europe/Berlin
BEGIN:VTIMEZONE
TZID:Europe/Berlin
X-LIC-LOCATION:Europe/Berlin
BEGIN:STANDARD
DTSTART:19701025T030000
TZOFFSETFROM:+0200
TZOFFSETTO:+0100
TZNAME:CET
END:STANDARD
BEGIN:DAYLIGHT
DTSTART:19700329T020000
TZOFFSETFROM:+0100
TZOFFSETTO:+0200
TZNAME:CEST
END:DAYLIGHT
END:VTIMEZONE
BEGIN:VEVENT
UID:20260421T164751CEST-2441093faf@91.233.84.75
DTSTAMP:20260421T144751Z
DESCRIPTION:Das Festival junger Künstler Bayreuth in neuen Räumen\nHeitere 
 Sommermusik\nmit Solist:innen des Jugendsymphonieorchesters der Ukraine (g
 egründet von Oksana Lyniv)
DTSTART:20230816T160000
DTEND:20230816T160000
GEO:+49.94546;+11.5698
LOCATION:Rotmaincenter Bayreuth\, Hohenzollernring 58\, 95444 Bayreuth\, De
 utschland
SUMMARY:Lifestyle. Music
URL:https://www.youngartistsbayreuth.de/en/event/lifestyle-music-16-08-2023
 -16-00.html
X-APPLE-STRUCTURED-LOCATION;VALUE=URI;X-ADDRESS="Hohenzollernring 58, Bayre
 uth, 95444, Deutschland";X-APPLE-RADIUS=100;X-TITLE=Lifestyle. Music:GEO:4
 9.9454597\,11.5698002
END:VEVENT
END:VCALENDAR
