BEGIN:VCALENDAR
VERSION:2.0
PRODID:-//91.233.84.75//NONSGML kigkonsult.se iCalcreator 2.24//
CALSCALE:GREGORIAN
METHOD:PUBLISH
X-WR-TIMEZONE:Europe/Berlin
BEGIN:VTIMEZONE
TZID:Europe/Berlin
X-LIC-LOCATION:Europe/Berlin
BEGIN:STANDARD
DTSTART:19701025T030000
TZOFFSETFROM:+0200
TZOFFSETTO:+0100
TZNAME:CET
END:STANDARD
BEGIN:DAYLIGHT
DTSTART:19700329T020000
TZOFFSETFROM:+0100
TZOFFSETTO:+0200
TZNAME:CEST
END:DAYLIGHT
END:VTIMEZONE
BEGIN:VEVENT
UID:20260421T145829CEST-4704a347cf@91.233.84.75
DTSTAMP:20260421T125829Z
DESCRIPTION:Arien\, Chansons und Lieder von G. F. Händel bis B. Britten\nOl
 ivia Federow-Yemm\, Mezzosopran und Denette Whitter\, Pianistin\, im Rahme
 n des 73. Festival junger Künstler Bayreuth
DTSTART:20230805T110000
DTEND:20230805T110000
GEO:+49.94234;+11.573768
LOCATION:Steingraeber Haus\, Kammermusiksaal\, Friedrichstraße 2\, 95445 Ba
 yreuth\, Deutschland
SUMMARY:Matinée: „An die Musik…“
URL:https://www.youngartistsbayreuth.de/de/veranstaltung/matin%C3%A9e-an-di
 e-musik-05-08-2023-11-00.html
X-APPLE-STRUCTURED-LOCATION;VALUE=URI;X-ADDRESS="Friedrichstraße 2, Bayreut
 h, 95445, Deutschland";X-APPLE-RADIUS=100;X-TITLE="Matinée: „An die Musik…
 “":GEO:49.9423403\,11.5737679
END:VEVENT
END:VCALENDAR
