BEGIN:VCALENDAR
VERSION:2.0
PRODID:-//91.233.84.75//NONSGML kigkonsult.se iCalcreator 2.24//
CALSCALE:GREGORIAN
METHOD:PUBLISH
X-WR-TIMEZONE:Europe/Berlin
BEGIN:VTIMEZONE
TZID:Europe/Berlin
X-LIC-LOCATION:Europe/Berlin
BEGIN:STANDARD
DTSTART:19701025T030000
TZOFFSETFROM:+0200
TZOFFSETTO:+0100
TZNAME:CET
END:STANDARD
BEGIN:DAYLIGHT
DTSTART:19700329T020000
TZOFFSETFROM:+0100
TZOFFSETTO:+0200
TZNAME:CEST
END:DAYLIGHT
END:VTIMEZONE
BEGIN:VEVENT
UID:20260421T145901CEST-292411a1b0@91.233.84.75
DTSTAMP:20260421T125901Z
DESCRIPTION:Zum 150. Geburtstag von Sergei Rachmaninow\nSuite No. 1 und 2 f
 ür zwei Klaviere und 6 Morceaux op. 11\nKlavierduo VooDoo: Vuk Božilović u
 nd Dušan Grozdanović\, im Rahmen des 73. Festival junger Künstler Bayreuth
DTSTART:20230807T110000
DTEND:20230807T110000
GEO:+49.94234;+11.573768
LOCATION:Steingraeber Haus\, Kammermusiksaal\, Friedrichstraße 2\, 95445 Ba
 yreuth\, Deutschland
SUMMARY:Matinée: Auf 167 Tasten.
URL:https://www.youngartistsbayreuth.de/de/veranstaltung/matin%C3%A9e-auf-1
 67-tasten-07-08-2023-11-00.html
X-APPLE-STRUCTURED-LOCATION;VALUE=URI;X-ADDRESS="Friedrichstraße 2, Bayreut
 h, 95445, Deutschland";X-APPLE-RADIUS=100;X-TITLE="Matinée: Auf 167 Tasten
 .":GEO:49.9423403\,11.5737679
END:VEVENT
END:VCALENDAR
