BEGIN:VCALENDAR
VERSION:2.0
PRODID:-//91.233.84.75//NONSGML kigkonsult.se iCalcreator 2.24//
CALSCALE:GREGORIAN
METHOD:PUBLISH
X-WR-TIMEZONE:Europe/Berlin
BEGIN:VTIMEZONE
TZID:Europe/Berlin
X-LIC-LOCATION:Europe/Berlin
BEGIN:STANDARD
DTSTART:19701025T030000
TZOFFSETFROM:+0200
TZOFFSETTO:+0100
TZNAME:CET
END:STANDARD
BEGIN:DAYLIGHT
DTSTART:19700329T020000
TZOFFSETFROM:+0100
TZOFFSETTO:+0200
TZNAME:CEST
END:DAYLIGHT
END:VTIMEZONE
BEGIN:VEVENT
UID:20260421T145956CEST-6074fe22b9@91.233.84.75
DTSTAMP:20260421T125956Z
DESCRIPTION:Leitung: Prof. Rudolf Haken
DTSTART:20200801T120000
DTEND:20200801T120000
GEO:+49.94286;+11.5876
LOCATION:DAS ZENTRUM\, Europasaal\, Äußere Badstraße 7a\, 95448 Bayreuth\, 
 Deutschland
SUMMARY:Matinee: Das International Online Folk Orchestra 2020 präsentiert s
 eine Workshopergebnisse vom Juni / Juli 2020
URL:https://www.youngartistsbayreuth.de/de/veranstaltung/matinee-das-intern
 ational-online-folk-orchestra-2020-01-08-2020-12-00.html
X-APPLE-STRUCTURED-LOCATION;VALUE=URI;X-ADDRESS="Äußere Badstraße 7a, Bayre
 uth, 95448, Deutschland";X-APPLE-RADIUS=100;X-TITLE="Matinee: Das Internat
 ional Online Folk Orchestra 2020 präsentiert seine Workshopergebnisse vom 
 Juni / Juli 2020":GEO:49.94286\,11.5876
END:VEVENT
END:VCALENDAR
