BEGIN:VCALENDAR
VERSION:2.0
PRODID:-//91.233.84.75//NONSGML kigkonsult.se iCalcreator 2.24//
CALSCALE:GREGORIAN
METHOD:PUBLISH
X-WR-TIMEZONE:Europe/Berlin
BEGIN:VTIMEZONE
TZID:Europe/Berlin
X-LIC-LOCATION:Europe/Berlin
BEGIN:STANDARD
DTSTART:19701025T030000
TZOFFSETFROM:+0200
TZOFFSETTO:+0100
TZNAME:CET
END:STANDARD
BEGIN:DAYLIGHT
DTSTART:19700329T020000
TZOFFSETFROM:+0100
TZOFFSETTO:+0200
TZNAME:CEST
END:DAYLIGHT
END:VTIMEZONE
BEGIN:VEVENT
UID:20260421T164015CEST-31298dc179@91.233.84.75
DTSTAMP:20260421T144015Z
DESCRIPTION:Prof. Fredrik Schwenk und sein Kompositionsworkshop präsentiere
 n.
DTSTART:20200806T110000
DTEND:20200806T110000
GEO:+49.94043;+11.59242
LOCATION:Markgräfin-Wilhelmine-Gymnasium\, Aula\, Königsallee 17\, 95448 Ba
 yreuth\, Deutschland
SUMMARY:Matinee. - Dialog der Giganten: Beethoven\, Wagner und seine Zeitge
 nossen im kabarettistischen Diskurs
URL:https://www.youngartistsbayreuth.de/en/event/matinee-dialog-der-gigante
 n-beethoven-wagner-und-seine-06-08-2020-11-00.html
X-APPLE-STRUCTURED-LOCATION;VALUE=URI;X-ADDRESS="Königsallee 17, Bayreuth, 
 95448, Deutschland";X-APPLE-RADIUS=100;X-TITLE="Matinee. - Dialog der Giga
 nten: Beethoven, Wagner und seine Zeitgenossen im kabarettistischen Diskur
 s":GEO:49.94043\,11.59242
END:VEVENT
END:VCALENDAR
