BEGIN:VCALENDAR
VERSION:2.0
PRODID:-//91.233.84.75//NONSGML kigkonsult.se iCalcreator 2.24//
CALSCALE:GREGORIAN
METHOD:PUBLISH
X-WR-TIMEZONE:Europe/Berlin
BEGIN:VTIMEZONE
TZID:Europe/Berlin
X-LIC-LOCATION:Europe/Berlin
BEGIN:STANDARD
DTSTART:19701025T030000
TZOFFSETFROM:+0200
TZOFFSETTO:+0100
TZNAME:CET
END:STANDARD
BEGIN:DAYLIGHT
DTSTART:19700329T020000
TZOFFSETFROM:+0100
TZOFFSETTO:+0200
TZNAME:CEST
END:DAYLIGHT
END:VTIMEZONE
BEGIN:VEVENT
UID:20260421T163942CEST-8071e603f8@91.233.84.75
DTSTAMP:20260421T143942Z
DESCRIPTION:Werke von Antonio Vivaldi und Johannes X. Schachtner\nStreichen
 semble Thalia\nRobert Schröter\, Cembalo\nSophia Schambeck\, Blockflöte\nI
 sabel Grübl\, Mezzosopran\nMusikalische Leitung: Johannes X. Schachtner\nE
 ine Veranstaltung für den Internationalen Club der Universität Bayreuth.We
 itere Gästeanmeldungen sind gerne gesehen.
DTSTART:20240810T110000
DTEND:20240810T110000
GEO:+49.94286;+11.5876
LOCATION:DAS ZENTRUM\, Europasaal\, Äußere Badstraße 7a\, 95448 Bayreuth\, 
 Deutschland
SUMMARY:Matinée: Klimakonzert! „Die vier Jahreszeiten – durcheinander“
URL:https://www.youngartistsbayreuth.de/en/event/matin%C3%A9e-klimakonzert-
 die-vier-jahreszeiten-10-08-2024-11-00.html
X-APPLE-STRUCTURED-LOCATION;VALUE=URI;X-ADDRESS="Äußere Badstraße 7a, Bayre
 uth, 95448, Deutschland";X-APPLE-RADIUS=100;X-TITLE="Matinée: Klimakonzert
 ! „Die vier Jahreszeiten – durcheinander“":GEO:49.94286\,11.5876
END:VEVENT
END:VCALENDAR
